BEGIN:VCALENDAR
VERSION:2.0
PRODID:-//ChamberMaster//Event Calendar 2.0//EN
METHOD:PUBLISH
X-PUBLISHED-TTL:P3D
REFRESH-INTERVAL:P3D
CALSCALE:GREGORIAN
BEGIN:VEVENT
DTSTART:20160416T160000Z
DTEND:20160416T200000Z
X-MICROSOFT-CDO-ALLDAYEVENT:FALSE
SUMMARY:MRL Friends Book Sale
DESCRIPTION:Sale of books\, audiobooks\, CDs\, VHS tapes\, cookbooks\, etc. This is the last day of the sale\, and all items will be half-price.
X-ALT-DESC;FMTTYPE=text/html:Sale of books\, audiobooks\, CDs\, VHS tapes\, cookbooks\, etc. This is the last day of the sale\, and all items will be half-price.
LOCATION:Central Library\, Harrisonburg
UID:e.2338.367
SEQUENCE:3
DTSTAMP:20260422T062229Z
URL:https://chamber.hrchamber.org/events/details/mrl-friends-book-sale-04-16-2016-367
END:VEVENT

END:VCALENDAR
