BEGIN:VCALENDAR
VERSION:2.0
PRODID:-//ChamberMaster//Event Calendar 2.0//EN
METHOD:PUBLISH
X-PUBLISHED-TTL:P3D
REFRESH-INTERVAL:P3D
CALSCALE:GREGORIAN
BEGIN:VEVENT
DTSTART:20160412T220000Z
DTEND:20160413T000000Z
X-MICROSOFT-CDO-ALLDAYEVENT:FALSE
SUMMARY:MRL Friends Book Sale
DESCRIPTION:Preview Night for Friends of Central Library. Existing Friends members may preview the sale with current membership dues up to date. New members are also taken in once membership dues are paid.
X-ALT-DESC;FMTTYPE=text/html:Preview Night for Friends of Central Library. Existing Friends members may preview the sale with current membership dues up to date. New members are also taken in once membership dues are paid.
LOCATION:Central Library
UID:e.2338.363
SEQUENCE:3
DTSTAMP:20260422T062255Z
URL:https://chamber.hrchamber.org/events/details/mrl-friends-book-sale-04-12-2016-363
END:VEVENT

END:VCALENDAR
