BEGIN:VCALENDAR
VERSION:2.0
PRODID:-//ChamberMaster//Event Calendar 2.0//EN
METHOD:PUBLISH
X-PUBLISHED-TTL:P3D
REFRESH-INTERVAL:P3D
CALSCALE:GREGORIAN
BEGIN:VEVENT
DTSTART:20160521T143000Z
DTEND:20160521T160000Z
X-MICROSOFT-CDO-ALLDAYEVENT:FALSE
SUMMARY:MRL and JMU Tech Petting Zoo @ North River Library
DESCRIPTION:MRL and JMU Libraries are collaborating to hold a workshop to show the public how to access and use library resources on electronic devices. This workshop is free and open to the public
X-ALT-DESC;FMTTYPE=text/html:MRL and JMU Libraries are collaborating to hold a workshop to show the public how to access and use library resources on electronic devices. This workshop is free and open to the public
LOCATION:North River Library\, Bridgewater
UID:e.2338.392
SEQUENCE:3
DTSTAMP:20260422T045225Z
URL:https://chamber.hrchamber.org/events/details/mrl-and-jmu-tech-petting-zoo-north-river-library-05-21-2016-392
END:VEVENT

END:VCALENDAR
