BEGIN:VCALENDAR
VERSION:2.0
PRODID:-//ChamberMaster//Event Calendar 2.0//EN
METHOD:PUBLISH
X-PUBLISHED-TTL:P3D
REFRESH-INTERVAL:P3D
CALSCALE:GREGORIAN
BEGIN:VEVENT
DTSTART:20181117T180000Z
DTEND:20181117T203000Z
X-MICROSOFT-CDO-ALLDAYEVENT:FALSE
SUMMARY:MRL 90th Birthday Celebration
DESCRIPTION:Join us for a celebration of 90 years of the library!\n\nSaturday\, November 17th @ 1 PM\n\n@ Central Library\, Downtown Harrisonburg\nCake\, refreshments\, games for the kids\, and a pop-up museum full of library memorabilia and relics will be available.\n\n\n\nWe will also be launching "Century of Stories\," an oral history project exploring the role\, place\, and idea of MRL in our community. This project will collect stories about MRL from community members\, both young and old\, throughout Rockingham and Page Counties and the City of Harrisonburg. We are interested in your memories and recollections\, and we will gather and record stories over the next decade as we count down to MRL's 100th birthday in 2028.
X-ALT-DESC;FMTTYPE=text/html:<h2>Join us for a celebration of 90 years of the library!</h2>\n\n<h4><a href="https://mrlib.org/event/90th-birthday-celebration-central-library/" target="_blank">Saturday\, November 17th @ 1 PM</a><br />\n@ Central Library\, Downtown Harrisonburg</h4>\nCake\, refreshments\, games for the kids\, and a pop-up museum full of library memorabilia and relics will be available.<br />\n<br />\nWe will also be launching &quot\;Century of Stories\,&quot\; an oral history project exploring the role\, place\, and idea of MRL in our community. This project will collect stories about MRL from community members\, both young and old\, throughout Rockingham and Page Counties and the City of Harrisonburg. We are interested in your memories and recollections\, and we will gather and record stories over the next decade as we count down to MRL&rsquo\;s 100th birthday in 2028.
LOCATION:Massanutten Regional Library 174 S. Main St. Harrisonburg\, VA 22801
UID:e.2338.6102
SEQUENCE:3
DTSTAMP:20260420T074600Z
URL:https://chamber.hrchamber.org/events/details/mrl-90th-birthday-celebration-6102
END:VEVENT

END:VCALENDAR
