BEGIN:VCALENDAR
VERSION:2.0
PRODID:-//ChamberMaster//Event Calendar 2.0//EN
METHOD:PUBLISH
X-PUBLISHED-TTL:P3D
REFRESH-INTERVAL:P3D
CALSCALE:GREGORIAN
BEGIN:VEVENT
DTSTART:20190330T123000Z
DTEND:20190330T160000Z
X-MICROSOFT-CDO-ALLDAYEVENT:FALSE
SUMMARY:Mother-Daughter Vision Board Session - Design Your Future
DESCRIPTION:Do you desire creating memories\, a fun experience\, open communication\, and goals you can help your daughter achieve?\n\n\n\nHow about a best friend\, co-worker\, relative\, who would benefit from joining you at this session? You can be great accountability partners for one another and receive support on your journey.\n\n\n\nThe future is yours to design. As we walk participants through the History of Your Future\, each will experience their mindset and creativity expanded specific to the future they desire and in a confidential way. As clear pathways emerge\, you and your daughter/friend will build separate vision boards while enjoying a fun morning together surrounded by like-minded women intentionally designing their own destiny.\n\n\n\nLearn how to move from goals to growth to obtain your dreams.\n\n\n\nA light breakfast will be served. Space is limited at this venue so grab your tickets today!
X-ALT-DESC;FMTTYPE=text/html:<div>\n<div>Do you desire creating memories\, a fun experience\, open communication\, and goals you can help your daughter achieve?<br />\n<br />\nHow about a best friend\, co-worker\, relative\, who would benefit from joining you at this session? You can be great accountability partners for one another and receive support on your journey.<br />\n<br />\nThe future is yours to design. As we walk participants through the History of Your Future\, each will experience their mindset and creativity expanded specific to the future they desire and in a confidential way. As clear pathways emerge\, you and your daughter/friend will build separate vision boards while enjoying a fun morning together surrounded by like-minded women intentionally designing their own destiny.<br />\n<br />\nLearn how to move from goals to growth to obtain your dreams.<br />\n<br />\nA light breakfast will be served. Space is limited at this venue so grab your tickets today!</div>\n</div>\n
LOCATION:800 Country Club Rd Harrisonburg\, VA 22802
UID:e.2338.6369
SEQUENCE:3
DTSTAMP:20260420T013159Z
URL:https://chamber.hrchamber.org/events/details/mother-daughter-vision-board-session-design-your-future-6369
END:VEVENT

END:VCALENDAR
