BEGIN:VCALENDAR
VERSION:2.0
PRODID:-//ChamberMaster//Event Calendar 2.0//EN
METHOD:PUBLISH
X-PUBLISHED-TTL:P3D
REFRESH-INTERVAL:P3D
CALSCALE:GREGORIAN
BEGIN:VEVENT
DTSTART:20160725T180000Z
DTEND:20160725T200000Z
X-MICROSOFT-CDO-ALLDAYEVENT:FALSE
SUMMARY:Monday Movie @ Village Library
DESCRIPTION:E.B. White's classic children's story is a delightful family film. Children 12 and under must be accompanied by an adult (18+). Check film title www.mrlib.org/flicks.
X-ALT-DESC;FMTTYPE=text/html:E.B. White&#39\;s classic children&#39\;s story is a delightful family film. Children 12 and under must be accompanied by an adult (18+). Check film title www.mrlib.org/flicks.
LOCATION:Central Library
UID:e.2338.470
SEQUENCE:3
DTSTAMP:20260422T020252Z
URL:https://chamber.hrchamber.org/events/details/monday-movie-village-library-07-25-2016-470
END:VEVENT

END:VCALENDAR
