BEGIN:VCALENDAR
VERSION:2.0
PRODID:-//ChamberMaster//Event Calendar 2.0//EN
METHOD:PUBLISH
X-PUBLISHED-TTL:P3D
REFRESH-INTERVAL:P3D
CALSCALE:GREGORIAN
BEGIN:VEVENT
DTSTART:20160718T180000Z
DTEND:20160718T200000Z
X-MICROSOFT-CDO-ALLDAYEVENT:FALSE
SUMMARY:Monday Movie @ Village Library
DESCRIPTION:Sandra Bullock lends her talent to this family film\, which is open and free to the public. Children 12 and under must be accompanied by an adult (18+). Check film title www.mrlib.org/flicks/.
X-ALT-DESC;FMTTYPE=text/html:Sandra Bullock lends her talent to this family film\, which is open and free to the public. Children 12 and under must be accompanied by an adult (18+). Check film title www.mrlib.org/flicks/.
LOCATION:Village Library
UID:e.2338.467
SEQUENCE:3
DTSTAMP:20260422T015551Z
URL:https://chamber.hrchamber.org/events/details/monday-movie-village-library-07-18-2016-467
END:VEVENT

END:VCALENDAR
