BEGIN:VCALENDAR
VERSION:2.0
PRODID:-//ChamberMaster//Event Calendar 2.0//EN
METHOD:PUBLISH
X-PUBLISHED-TTL:P3D
REFRESH-INTERVAL:P3D
CALSCALE:GREGORIAN
BEGIN:VEVENT
DTSTART:20160718T213000Z
DTEND:20160718T233000Z
X-MICROSOFT-CDO-ALLDAYEVENT:FALSE
SUMMARY:Mock Interview Training for Citizenship
DESCRIPTION:We'll go over the citizenship interview process\, how to teach the application vocabulary and interview skills sections of the curriculum\, and practice conducting mock interviews. It's open to new citizenship tutors AS WELL AS seasoned tutors who want some fresh ideas on how to teach the new material we've incorporated into the curriculum.
X-ALT-DESC;FMTTYPE=text/html:We&#39\;ll go over the citizenship interview process\, how to teach the application vocabulary and interview skills sections of the curriculum\, and practice conducting mock interviews. It&#39\;s open to new citizenship tutors AS WELL AS seasoned tutors who want some fresh ideas on how to teach the new material we&#39\;ve incorporated into the curriculum.
LOCATION:Skyline Literacy\, 975 S. High St. Harrisonburg\, VA 22801
UID:e.2338.445
SEQUENCE:3
DTSTAMP:20260422T014904Z
URL:https://chamber.hrchamber.org/events/details/mock-interview-training-for-citizenship-07-18-2016-445
END:VEVENT

END:VCALENDAR
