BEGIN:VCALENDAR
VERSION:2.0
PRODID:-//ChamberMaster//Event Calendar 2.0//EN
METHOD:PUBLISH
X-PUBLISHED-TTL:P3D
REFRESH-INTERVAL:P3D
CALSCALE:GREGORIAN
BEGIN:VEVENT
DTSTART:20170516T020000Z
DTEND:20170516T030000Z
X-MICROSOFT-CDO-ALLDAYEVENT:FALSE
SUMMARY:Military Affairs Committee
DESCRIPTION:
X-ALT-DESC;FMTTYPE=text/html:
LOCATION:Harrisonburg-Rockingham Chamber of Commerce Offices 800 Country Club Road Harrisonburg\, VA 22802
UID:e.2338.2697
SEQUENCE:3
DTSTAMP:20260419T203710Z
URL:https://chamber.hrchamber.org/events/details/military-affairs-committee-2697
END:VEVENT

END:VCALENDAR
