BEGIN:VCALENDAR
VERSION:2.0
PRODID:-//ChamberMaster//Event Calendar 2.0//EN
METHOD:PUBLISH
X-PUBLISHED-TTL:P3D
REFRESH-INTERVAL:P3D
CALSCALE:GREGORIAN
BEGIN:VEVENT
DTSTART:20181020T223000Z
DTEND:20181021T003000Z
X-MICROSOFT-CDO-ALLDAYEVENT:FALSE
SUMMARY:Mercy House 30th Anniversary Celebration
DESCRIPTION:This banquet will be a celebration of Mercy House's work over the past three decades to 'change the world\, one family at a time'. The program will also serve as a call to action as our region confronts an emerging affordable housing crisis.
X-ALT-DESC;FMTTYPE=text/html:<span style="font-size:12px"><span style="font-family:arial\,helvetica\,sans-serif">This banquet will be a celebration of Mercy House&#39\;s work over the past three decades to &#39\;change the world\, one family at a time&#39\;.&nbsp\;<span style="color:rgb(29\, 33\, 41)">The program will also serve as a call to action as our region confronts an emerging affordable housing crisis.</span></span></span>
LOCATION:JMU Festival and Conference Center
UID:e.2338.6046
SEQUENCE:3
DTSTAMP:20260420T091057Z
URL:https://chamber.hrchamber.org/events/details/mercy-house-30th-anniversary-celebration-6046
END:VEVENT

END:VCALENDAR
