BEGIN:VCALENDAR
VERSION:2.0
PRODID:-//ChamberMaster//Event Calendar 2.0//EN
METHOD:PUBLISH
X-PUBLISHED-TTL:P3D
REFRESH-INTERVAL:P3D
CALSCALE:GREGORIAN
BEGIN:VEVENT
DTSTART:20180811T160000Z
DTEND:20180811T200000Z
X-MICROSOFT-CDO-ALLDAYEVENT:FALSE
SUMMARY:Memorial Bloodmobile Drive at Melrose City Grocery & Deli
DESCRIPTION:A public bloodmobile drive in memory of Jim Smith will be held at the Melrose City Grocery & Deli on North Valley Pike on Saturday\, August 11 from noon to 4 pm. Tee shirts will be available as a thank you to donors\, while supplies last! Walk-ins are welcome\, but appointments are encouraged.  To secure your spot\, visit https://donateblood.vablood.org.
X-ALT-DESC;FMTTYPE=text/html:A public bloodmobile drive in memory of Jim Smith will be held at the Melrose City Grocery &amp\; Deli on North Valley Pike on Saturday\, August 11 from noon to 4 pm. Tee shirts will be available as a thank you to donors\, while supplies last! Walk-ins are welcome\, but appointments are encouraged.&nbsp\; To secure your spot\, visit <a href="https://donateblood.vablood.org/">https://donateblood.vablood.org</a>.
LOCATION:Melrose City Grocery & Deli 5101 North Valley Pike Harrisonburg VA 22802
UID:e.2338.5898
SEQUENCE:3
DTSTAMP:20260420T120343Z
URL:https://chamber.hrchamber.org/events/details/memorial-bloodmobile-drive-at-melrose-city-grocery-deli-5898
END:VEVENT

END:VCALENDAR
