BEGIN:VCALENDAR
VERSION:2.0
PRODID:-//ChamberMaster//Event Calendar 2.0//EN
METHOD:PUBLISH
X-PUBLISHED-TTL:P3D
REFRESH-INTERVAL:P3D
CALSCALE:GREGORIAN
BEGIN:VEVENT
DTSTART:20181127T150000Z
DTEND:20181127T163000Z
X-MICROSOFT-CDO-ALLDAYEVENT:FALSE
SUMMARY:Membership Success - Attend Now and be Prepared for a Successful 2019!
DESCRIPTION:Thank you for your membership! We want you to get the most value from your investment. Please join us for Membership Orientation. During this session we will walk you through the membership features that can maximize your visibility through your membership with the chamber.
X-ALT-DESC;FMTTYPE=text/html:Thank you for your membership! We want you to get the most value from your investment. Please join us for Membership Orientation. During this session we will walk you through the membership features that can maximize your visibility through your membership with the chamber.&nbsp\;
LOCATION:Harrisonburg Rockingham Chamber of Commerce 800 Country Club Road Harrisonburg\, VA
UID:e.2338.6100
SEQUENCE:3
DTSTAMP:20260420T075032Z
URL:https://chamber.hrchamber.org/events/details/membership-success-attend-now-and-be-prepared-for-a-successful-2019-6100
END:VEVENT

END:VCALENDAR
