BEGIN:VCALENDAR
VERSION:2.0
PRODID:-//ChamberMaster//Event Calendar 2.0//EN
METHOD:PUBLISH
X-PUBLISHED-TTL:P3D
REFRESH-INTERVAL:P3D
CALSCALE:GREGORIAN
BEGIN:VEVENT
DTSTART:20170125T200000Z
DTEND:20170125T210000Z
X-MICROSOFT-CDO-ALLDAYEVENT:FALSE
SUMMARY:Membership Orientation
DESCRIPTION:Come and learn more about your chamber membership. Everyone welcome\, new\, current\, and potential members.
X-ALT-DESC;FMTTYPE=text/html:Come and learn more about your chamber membership. Everyone welcome\, new\, current\, and potential members.
LOCATION:HR Chamber of Commerce 800 Country Club Rd Harrisonburg\, VA 22802
UID:e.2338.1545
SEQUENCE:3
DTSTAMP:20260419T140149Z
URL:https://chamber.hrchamber.org/events/details/membership-orientation-1545
END:VEVENT

END:VCALENDAR
