BEGIN:VCALENDAR
VERSION:2.0
PRODID:-//ChamberMaster//Event Calendar 2.0//EN
METHOD:PUBLISH
X-PUBLISHED-TTL:P3D
REFRESH-INTERVAL:P3D
CALSCALE:GREGORIAN
BEGIN:VEVENT
DTSTART:20180412T153000Z
DTEND:20180412T170000Z
X-MICROSOFT-CDO-ALLDAYEVENT:FALSE
SUMMARY:Member Success Orientation - Open to Current\, New & Prospective Members
DESCRIPTION:Thank you for your membership! We want you to get the most value from your investment. Please join us for Membership Orientation. During this session we will walk you through the membership features that can maximize your visibility through your membership with the chamber.
X-ALT-DESC;FMTTYPE=text/html:Thank you for your membership! We want you to get the most value from your investment. Please join us for Membership Orientation. During this session we will walk you through the membership features that can maximize your visibility through your membership with the chamber.&nbsp\;
LOCATION:Chamber of Commerce Offices 800 Country Club Road Harrisonburg\, VA 22802
UID:e.2338.3212
SEQUENCE:3
DTSTAMP:20260420T114247Z
URL:https://chamber.hrchamber.org/events/details/member-success-orientation-open-to-current-new-prospective-members-04-12-2018-3212
END:VEVENT

END:VCALENDAR
