BEGIN:VCALENDAR
VERSION:2.0
PRODID:-//ChamberMaster//Event Calendar 2.0//EN
METHOD:PUBLISH
X-PUBLISHED-TTL:P3D
REFRESH-INTERVAL:P3D
CALSCALE:GREGORIAN
BEGIN:VEVENT
DTSTART:20200115T170000Z
DTEND:20200115T180000Z
X-MICROSOFT-CDO-ALLDAYEVENT:FALSE
SUMMARY:Medicare Workshop\, Lunch & Learn
DESCRIPTION:Join us for a Medicare Workshop lunch and learn.  Enjoy a sandwich on us while one of our licensed professionals guides you through the Medicare system. \n\n\n\nAs you know\, there is a lot of confusion about Medicare enrollment periods\, penalties\, retiree plans\, and coverage options. Our team will be able to eliminate the confusion and answer questions allowing attendees to make informative decisions.  \n\nWe currently work with partners from all sectors including  universities\, colleges\, physician groups\, health systems\,  businesses\, non-profs\, municipalities\, and countless other organizations. Please join us for one of our lunch & learn Medicare Workshops!  \n\n\n\nThis is an educational event\, for accommodations of persons with special needs at meeting please call (877) 433-1149 or 711 TTY.
X-ALT-DESC;FMTTYPE=text/html:<span style="color:#045184"><span style="font-family:arial\,sans-serif"><span style="font-size:13.0pt">Join us for&nbsp\;a Medicare Workshop lunch and learn.&nbsp\; Enjoy a sandwich on us while one of our licensed professionals guides you through the Medicare system.&nbsp\;<br />\n<br />\nAs you know\, there is a lot of confusion about Medicare enrollment periods\, penalties\, retiree plans\, and coverage options. Our team will be able to eliminate the confusion and answer questions allowing attendees to make informative decisions.&nbsp\;&nbsp\;</span></span></span><br />\n<span style="color:#045184"><span style="font-family:arial\,sans-serif"><span style="font-size:13.0pt">We currently work with partners from all sectors including&nbsp\; universities\,&nbsp\;colleges\, physician groups\, health systems\,&nbsp\; businesses\, non-profs\, municipalities\, and countless other organizations. Please join us for one of our lunch &amp\; learn Medicare Workshops!&nbsp\;&nbsp\;<br />\n<br />\nThis is an educational event\, for accommodations of persons with special needs at meeting please call (877) 433-1149 or 711 TTY.</span></span></span>
LOCATION:Marketplace Agency & ElderCare Associates\, Inc. 420 Neff Ave\, Suite 220 Harrisonburg\, Virginia 22801
UID:e.2338.8284
SEQUENCE:3
DTSTAMP:20260419T120137Z
URL:https://chamber.hrchamber.org/events/details/medicare-workshop-lung-learn-8284
END:VEVENT

END:VCALENDAR
