BEGIN:VCALENDAR
VERSION:2.0
PRODID:-//ChamberMaster//Event Calendar 2.0//EN
METHOD:PUBLISH
X-PUBLISHED-TTL:P3D
REFRESH-INTERVAL:P3D
CALSCALE:GREGORIAN
BEGIN:VEVENT
DTSTART:20180416T223000Z
DTEND:20180417T230000Z
X-MICROSOFT-CDO-ALLDAYEVENT:FALSE
SUMMARY:Medicare 101 Seminar
DESCRIPTION:Medicare 101 Seminar. Questions concerning Medicare? FREE information session. We are here to answer questions you may have.
X-ALT-DESC;FMTTYPE=text/html:Medicare 101 Seminar. Questions concerning Medicare? FREE information session. We are here to answer questions you may have.
LOCATION:Va Farm Bureau Insurance/Rockingham\, 1938 Deyerle Ave.\, Harrisonburg
UID:e.2338.4769
SEQUENCE:3
DTSTAMP:20260420T113757Z
URL:https://chamber.hrchamber.org/events/details/medicare-101-seminar-4769
END:VEVENT

END:VCALENDAR
