BEGIN:VCALENDAR
VERSION:2.0
PRODID:-//ChamberMaster//Event Calendar 2.0//EN
METHOD:PUBLISH
X-PUBLISHED-TTL:P3D
REFRESH-INTERVAL:P3D
CALSCALE:GREGORIAN
BEGIN:VEVENT
DTSTART:20210528T163000Z
DTEND:20210528T170000Z
X-MICROSOFT-CDO-ALLDAYEVENT:FALSE
SUMMARY:McCain Whole Health Care - Ribbon Cutting
DESCRIPTION:Join the Harrisonburg-Rockingham Chamber of Commerce to welcome McCain Whole Health Care to Harrisonburg!
X-ALT-DESC;FMTTYPE=text/html:Join the Harrisonburg-Rockingham Chamber of Commerce to welcome McCain Whole Health Care to Harrisonburg!&nbsp\;
LOCATION:2058 Pro Point Ln Harrisonburg\, VA 22801
UID:e.2338.10553
SEQUENCE:3
DTSTAMP:20260424T015034Z
URL:https://chamber.hrchamber.org/events/details/mccain-whole-health-care-ribbon-cutting-10553
END:VEVENT

END:VCALENDAR
