BEGIN:VCALENDAR
VERSION:2.0
PRODID:-//ChamberMaster//Event Calendar 2.0//EN
METHOD:PUBLISH
X-PUBLISHED-TTL:P3D
REFRESH-INTERVAL:P3D
CALSCALE:GREGORIAN
BEGIN:VEVENT
DTSTART:20180508T200000Z
DTEND:20180508T230000Z
X-MICROSOFT-CDO-ALLDAYEVENT:FALSE
SUMMARY:MBA/ MA in Organizational Leadership Open House
DESCRIPTION:Eastern Mennonite University invites the community to learn more about the MBA and Master of Arts in Organizational Leadership programs at an Open House on campus. Program representatives will be on hand to answer questions about both programs. For more information or questions\, please call 540-432-4150.
X-ALT-DESC;FMTTYPE=text/html:Eastern Mennonite University invites the community to learn more about the MBA and Master of Arts in Organizational Leadership programs at an Open House on campus. Program representatives will be on hand to answer questions about both programs. For more information or questions\, please call 540-432-4150.&nbsp\;
LOCATION:Eastern Mennonite University\, Campus Center Building\, room 206
UID:e.2338.5819
SEQUENCE:3
DTSTAMP:20260420T131657Z
URL:https://chamber.hrchamber.org/events/details/mba-ma-in-organizational-leadership-open-house-5819
END:VEVENT

END:VCALENDAR
