BEGIN:VCALENDAR
VERSION:2.0
PRODID:-//ChamberMaster//Event Calendar 2.0//EN
METHOD:PUBLISH
X-PUBLISHED-TTL:P3D
REFRESH-INTERVAL:P3D
CALSCALE:GREGORIAN
BEGIN:VEVENT
DTSTART:20170707T210000Z
DTEND:20170708T000000Z
X-MICROSOFT-CDO-ALLDAYEVENT:FALSE
SUMMARY:Mauricio Esperon: Works on Paper
DESCRIPTION:Born in Uruguay on June 8\, 1971\, artist Mauricio G. Esperon first realized his love for art in elementary school. After studying graphic design in the mid '90s\, Esperon moved to Miami\, FL in 1999\, where he began work at a printing company. Esperon began painting after reading books on Latin American art and has been greatly inspired by 19th century Uruguayan artist Joaquin Torres Garcia. He states that he enjoys painting irregular shapes and using complex and detailed colors that shock the public. Esperon's Works on Paper will be on display in the Arts Council of the Valley's Smith House Galleries. This month's Opening Reception will also showcase local one-man Americana band Cardinal Folk. The Galleries are free and open to the public M-F 9 AM-5 PM.
X-ALT-DESC;FMTTYPE=text/html:Born in Uruguay on June 8\, 1971\, artist Mauricio G. Esperon first realized his love for art in elementary school. After studying graphic design in the mid &lsquo\;90s\, Esperon moved to Miami\, FL in 1999\, where he began work at a printing company. Esperon began painting after reading books on Latin American art and has been greatly inspired by 19th century Uruguayan artist Joaquin Torres Garcia. He states that he enjoys painting irregular shapes and using complex and detailed colors that shock the public. Esperon&rsquo\;s Works on Paper will be on display in the Arts Council of the Valley&rsquo\;s Smith House Galleries. This month&rsquo\;s Opening Reception will also showcase local one-man Americana band Cardinal Folk. The Galleries are free and open to the public M-F 9 AM-5 PM.
LOCATION:Smith House Galleries
UID:e.2338.3153
SEQUENCE:3
DTSTAMP:20260419T223019Z
URL:https://chamber.hrchamber.org/events/details/mauricio-esperon-works-on-paper-3153
END:VEVENT

END:VCALENDAR
