BEGIN:VCALENDAR
VERSION:2.0
PRODID:-//ChamberMaster//Event Calendar 2.0//EN
METHOD:PUBLISH
X-PUBLISHED-TTL:P3D
REFRESH-INTERVAL:P3D
CALSCALE:GREGORIAN
BEGIN:VEVENT
DTSTART:20170525T220000Z
DTEND:20170525T223000Z
X-MICROSOFT-CDO-ALLDAYEVENT:FALSE
SUMMARY:Massanutten Technical Center Student House for Sale
DESCRIPTION:Massanutten Technical Center: Student House Auction\n\n1330 square foot home measuring measures 28 x 48\, built by MTC students with attention to detail and quality construction. Featuring 3 bedrooms\, 2 full baths\, living room\, separate master suite and kitchen/dining area.\n\nThe front of this house has a beautiful entry door with a fan light. Windows are double-hung and vinyl clad by Integrity.  A 6' full glass door is located off the dining area and is situated for access to a back deck.\n\nThis house is designed to set on a crawl space foundation or a basement. It is offered with completed drywall and trim. All necessary inspections have passed to the satisfaction of the City of Harrisonburg. The house is ready to put on your site. The new owner must move the house and get the final inspections.\n\nFor more information\, call Kevin Hutton at 540-434-5961.
X-ALT-DESC;FMTTYPE=text/html:<div>\n<h4>Massanutten Technical Center: Student House Auction</h4>\n\n<p>1330 square foot home measuring measures 28 x 48\, built by MTC students with attention to detail and quality construction. Featuring 3 bedrooms\, 2 full baths\, living room\, separate master suite and kitchen/dining area.</p>\n\n<p>The front of this house has a beautiful entry door with a fan light. Windows are double-hung and vinyl clad by <strong><em>Integrity</em></strong>. &nbsp\;A 6&#39\; full glass door is located off the dining area and is situated for access to a back deck.</p>\n\n<p>This house is designed to set on a crawl space foundation or a basement. It is offered with completed drywall and trim. All necessary inspections have passed to the satisfaction of the City of Harrisonburg. The house is ready to put on your site. The new owner must move the house and get the final inspections.</p>\n\n<p>For more information\, call Kevin Hutton at 540-434-5961.</p>\n</div>\n
LOCATION:MTC 325 Pleasant Valley Road Harrisonburg\, VA 22801
UID:e.2338.2708
SEQUENCE:3
DTSTAMP:20260419T191957Z
URL:https://chamber.hrchamber.org/events/details/massanutten-technical-center-student-house-for-sale-2708
END:VEVENT

END:VCALENDAR
