BEGIN:VCALENDAR
VERSION:2.0
PRODID:-//ChamberMaster//Event Calendar 2.0//EN
METHOD:PUBLISH
X-PUBLISHED-TTL:P3D
REFRESH-INTERVAL:P3D
CALSCALE:GREGORIAN
BEGIN:VEVENT
DTSTART:20180703T210000Z
DTEND:20180704T020000Z
X-MICROSOFT-CDO-ALLDAYEVENT:FALSE
SUMMARY:Massanutten Resort Summer Jam Festival
DESCRIPTION:Massanutten Resort's 19th annual Summer Jam festival will take place on Tuesday\, July 3 from 5:00 p.m.   10:00 p.m. Featuring live music\, arts and crafts vendors\, food vendors\, a beer & wine garden\, kids' activities\, and fireworks\, this year's event is the perfect summer festival for families. \n\n\n\nEvent features include:\n\nLive Music | Known for entertaining all ages with country\, rock\, and hip hop covers\, Baltimore's Kanye Twitty will headline the event. Other can't-miss musical acts include Essential Vybe and 7 Mile Ford.\n\nKid's Corner | Activities will include cornhole\, an outdoor KerPlunk game\, sand art and face painting*. \n\nFood Vendors | Kona Ice\, K's Grill\, Grillizza\, Big Fat Daddy's\, Jack Brown's Burger Joint and Crab Cakes.\n\nBeer & Wine Garden | Beer selection will include Angry Orchard Crisp Apple Cider\, Angry Orchard Rose Cider\, Sam Adams Lager\, Sam Adams New England IPA\, Sam Adams 76\, Truly Wild Berry\, Sam Adams Rebel Juiced IPA\, Sam Adams Summer\, Blue Moon Belgium\, Blue Moon Mango Wheat\, Coors Light\, Miller High Life\, Leinenkugel Summer Shandy\, Miller Lite\, Peroni\, Pilsner Urquell\, Redds Apple Ale\, and Henrys Hard Sparkling Lemon Lime. Wine will feature CrossKeys Joy Red & Joy White wine.  Tickets are $4 per adult and include a 12 oz. beer.\n\nSpectacular Fireworks Show | Known to be one of the best firework shows in the region\, the Summer Jam fireworks will be set off at the Massanutten Peak at 10:00 p.m. \n\n\n\nIn addition\, other activities will include henna tattoos\, seated massages and RVA Hoop House.\n\nAdvance tickets are now on sale for just $15 online\, at the Massanutten Resort Concierge Desk\, The Market\, or The General Store through July 2. Kids six and under are free. All proceeds benefit the Rockingham/Harrisonburg SPCA.\n\n"Here at the Rockingham-Harrisonburg SPCA\, we are so excited for all the fun and entertainment planned for Summer 2018\," said Emily Eby\, Development/Fundraising Manager for R-H SPCA. "Summer Jam is our largest fundraiser and all the proceeds go to making sure the hungry are fed\, the homeless are given shelter\, and the abandoned have hope. We greatly appreciate all the attendees and volunteers for their support."\n\n\n\nFor those still in need of a place to stay before or after the event\, there are still Massanutten Resort Hotels and condos available online\, starting at just $95/night. No minimum stay is required for Massanutten Resort Hotels\, but condos are a minimum two-night stay. \n\n\n\nSummer Jam 2018 is proudly sponsored by MillerCoors\, Blue Ridge Beverage\, The Dayton Market\, and CrossKeys Vineyards.\n\n\n\nSome Kid's Corner activities may have an additional charge*. Additional information on Summer Jam can be found online at https://www.massresort.com/summerjam/.\n\nFor more information on the resort\, visit MassResort.com. Stay up-to-date on the latest news by following @MassResort on Instagram or follow Massanutten Resort on Facebook at www.facebook.com/massresort/. \n\n\n\n\n\nAbout Massanutten Resort\n\nSet on 6\,000 acres of sprawling land in the heart of Virginia's Shenandoah Valley\, Massanutten Resort is a premier all-season resort destination that offers virtually every type of traveler an unforgettable experience.  Outdoor enthusiasts and adventure buffs will enjoy Massanutten's Mountain Bike Park\, offering exciting jump trails for beginners and veteran riders alike\, and hiking Massanutten's Western Slope. For those seeking a relaxing escape\, the resort Spa delivers a wide menu of services including manicures\, pedicures\, detoxifying massages\, and more. The resort is a paradise for adventurous families\, featuring an indoor/outdoor waterpark complete with a triple-jet FlowRider  Endless Wave\, a 1920s-themed escape room\, the Family Adventure Park\, and a petting zoo. Seasonal sports activities include two challenging 18-hole golf courses\, skiing\, ice skating and snow tubing. Nothing works up an appetite like an active vacation and with 12 on-site dining options\, showcasing variety from mouthwatering barbecue to campfire treats\, Massanutten offers something for every taste\, season and occasion. At Massanutten Resort\, there is something for everyone\, all within reach   located just two hours from Washington\, D.C.\, and 50 minutes from the Charlottesville Albermarle Airport.
X-ALT-DESC;FMTTYPE=text/html:<span style="font-family:arial\,sans-serif\;">Massanutten Resort&#39\;s 19th annual Summer Jam festival will take place on Tuesday\, July 3 from 5:00 p.m. &ndash\; 10:00 p.m. Featuring live music\, arts and crafts vendors\, food vendors\, a beer &amp\; wine garden\, kids&rsquo\; activities\, and fireworks\, this year&rsquo\;s event is the perfect summer festival for families.&nbsp\;<br />\n<br />\nEvent features include:</span><br />\n<strong><span style="font-family:arial\,sans-serif\;">Live Music</span></strong><span style="font-family:arial\,sans-serif\;">&nbsp\;| Known for entertaining all ages with country\, rock\, and hip hop covers\, Baltimore&rsquo\;s Kanye Twitty will headline the event. Other can&rsquo\;t-miss musical acts include Essential Vybe and 7 Mile Ford.</span><br />\n<strong><span style="font-family:arial\,sans-serif\;">Kid&rsquo\;s Corner</span></strong><span style="font-family:arial\,sans-serif\;">&nbsp\;| Activities will include cornhole\, an outdoor KerPlunk game\, sand art and face painting*.&nbsp\;</span><br />\n<strong><span style="font-family:arial\,sans-serif\;">Food Vendors</span></strong><span style="font-family:arial\,sans-serif\;">&nbsp\;| Kona Ice\, K&rsquo\;s Grill\, Grillizza\, Big Fat Daddy&rsquo\;s\, Jack Brown&rsquo\;s Burger Joint and Crab Cakes.</span><br />\n<strong><span style="font-family:arial\,sans-serif\;">Beer &amp\; Wine Garden</span></strong><span style="font-family:arial\,sans-serif\;">&nbsp\;| Beer selection will include Angry Orchard Crisp Apple Cider\, Angry Orchard Rose Cider\, Sam Adams Lager\, Sam Adams New England IPA\, Sam Adams 76\, Truly Wild Berry\, Sam Adams Rebel Juiced IPA\, Sam Adams Summer\, Blue Moon Belgium\, Blue Moon Mango Wheat\, Coors Light\, Miller High Life\, Leinenkugel Summer Shandy\, Miller Lite\, Peroni\, Pilsner Urquell\, Redds Apple Ale\, and Henrys Hard Sparkling Lemon Lime. Wine will feature CrossKeys Joy Red &amp\; Joy White wine.&nbsp\; Tickets are $4 per adult and include a 12 oz. beer.</span><br />\n<strong><span style="font-family:arial\,sans-serif\;">Spectacular Fireworks Show</span></strong><span style="font-family:arial\,sans-serif\;"> | Known to be one of the best firework shows in the region\, the Summer Jam fireworks will be set off at the Massanutten Peak at 10:00 p.m. </span><br />\n<br />\n<span style="font-family:arial\,sans-serif\;">In addition\, other activities will include henna tattoos\, seated massages and RVA Hoop House.</span><br />\n<span style="font-family:arial\,sans-serif\;">Advance tickets are now on sale for just $15 <a href="https://www.ticketfly.com/purchase/event/1673259/tfly?utm_medium=destination&amp\;utm_source=eventbrite">online</a></span>\, at the Massanutten Resort Concierge Desk\, The Market\, or The General Store through July 2. Kids six and under are free. All proceeds benefit the Rockingham/Harrisonburg SPCA.<br />\n<span style="font-family:arial\,sans-serif\;">&quot\;Here at the Rockingham-Harrisonburg SPCA\, we are so excited for all the fun and entertainment planned for Summer 2018\,&rdquo\; said Emily Eby\, Development/Fundraising Manager for R-H SPCA. &ldquo\;Summer Jam is our largest fundraiser and all the proceeds go to making sure the hungry are fed\, the homeless are given shelter\, and the abandoned have hope. We greatly appreciate all the attendees and volunteers for their support.&quot\;</span><br />\n<br />\n<span style="font-family:arial\,sans-serif\;">For those still in need of a place to stay before or after the event\, there are still Massanutten Resort Hotels and condos available online\, starting at just $95/night. No minimum stay is required for Massanutten Resort Hotels\, but condos are a minimum two-night stay. </span><br />\n<br />\n<span style="font-family:arial\,sans-serif\;">Summer Jam 2018 is proudly sponsored by <a href="https://www.millercoors.com/">MillerCoors</a></span>\, <a href="http://www.blueridgebeverage.com/">Blue Ridge Beverage</a>\, <a href="https://www.thedaytonmarket.com/home/">The Dayton Market</a>\, and <a href="http://www.crosskeysvineyards.com/">CrossKeys Vineyards</a>.<br />\n<br />\n<strong><span style="font-family:arial\,sans-serif\;">Some Kid&rsquo\;s Corner activities may have an additional charge*. Additional information on Summer Jam can be found online at </span></strong><span style="font-family:arial\,sans-serif\;"><a href="https://www.massresort.com/summerjam/">https://www.massresort.com/summerjam/</a>.</span><br />\n<strong><span style="border:none windowtext 1.0pt\;padding:0in\;"><span style="font-family:arial\,sans-serif\;">For more information on the resort\, visit&nbsp\;</span></span></strong><strong><span style="font-family:arial\,sans-serif\;"><a href="https://www.massresort.com/">MassResort.com</a></span></strong><strong><span style="border:none windowtext 1.0pt\;padding:0in\;"><span style="color:#333333\;"><span style="font-family:arial\,sans-serif\;">. </span></span></span></strong><strong><span style="border:none windowtext 1.0pt\;padding:0in\;"><span style="font-family:arial\,sans-serif\;">Stay up-to-date on the latest news by following @MassResort on Instagram or follow Massanutten Resort on Facebook at&nbsp\;</span></span></strong><strong><span style="font-family:arial\,sans-serif\;"><a href="http://www.facebook.com/massresort/">www.facebook.com/massresort/</a></span></strong><strong><span style="font-family:arial\,sans-serif\;">. </span></strong><br />\n<br />\n<br />\n<strong><u><span style="font-family:arial\,sans-serif\;">About Massanutten Resort</span></u></strong><br />\n<span style="font-family:arial\,sans-serif\;">Set on 6\,000 acres of sprawling land in the heart of Virginia&rsquo\;s Shenandoah Valley\, <a href="http://www.massresort.com/">Massanutten Resort</a></span> is a premier all-season resort destination that offers virtually every type of traveler an unforgettable experience.&nbsp\; Outdoor enthusiasts and adventure buffs will enjoy Massanutten&rsquo\;s Mountain Bike Park\, offering exciting jump trails for beginners and veteran riders alike\, and hiking Massanutten&rsquo\;s Western Slope. For those seeking a relaxing escape\, the resort Spa delivers a wide menu of services including manicures\, pedicures\, detoxifying massages\, and more. The resort is a paradise for adventurous families\, featuring an indoor/outdoor waterpark complete with a triple-jet FlowRider<sup>&reg\;</sup> Endless Wave\, a 1920s-themed escape room\, the Family Adventure Park\, and a petting zoo. Seasonal sports activities include two challenging 18-hole golf courses\, skiing\, ice skating and snow tubing. Nothing works up an appetite like an active vacation and with 12 on-site dining options\, showcasing variety from mouthwatering barbecue to campfire treats\, Massanutten offers something for every taste\, season and occasion. At Massanutten Resort\, there is something for everyone\, all within reach &ndash\; located just two hours from Washington\, D.C.\, and 50 minutes from the Charlottesville Albermarle Airport.
LOCATION:Massanutten Resort
UID:e.2338.5884
SEQUENCE:3
DTSTAMP:20260420T133757Z
URL:https://chamber.hrchamber.org/events/details/massanutten-resort-summer-jam-festival-5884
END:VEVENT

END:VCALENDAR
