BEGIN:VCALENDAR
VERSION:2.0
PRODID:-//ChamberMaster//Event Calendar 2.0//EN
METHOD:PUBLISH
X-PUBLISHED-TTL:P3D
REFRESH-INTERVAL:P3D
CALSCALE:GREGORIAN
BEGIN:VEVENT
DTSTART:20160515T130000Z
DTEND:20160515T220000Z
X-MICROSOFT-CDO-ALLDAYEVENT:FALSE
SUMMARY:Making Faces Mini Sessions
DESCRIPTION:Our making faces sessions are all about being silly and goofing off- every childs favorite thing.  Instead of holding still your kids will enjoy moving around our set and expressing themselves for a heartwarming memory of childhood you will cherish always.
X-ALT-DESC;FMTTYPE=text/html:Our making faces sessions are all about being silly and goofing off- every childs favorite thing. &nbsp\;Instead of holding still your kids will enjoy moving around our set and expressing themselves for a heartwarming memory of childhood you will cherish always.
LOCATION:Monica Grimes Portrait Design
UID:e.2338.397
SEQUENCE:3
DTSTAMP:20260422T044648Z
URL:https://chamber.hrchamber.org/events/details/making-faces-mini-sessions-05-15-2016-397
END:VEVENT

END:VCALENDAR
