BEGIN:VCALENDAR
VERSION:2.0
PRODID:-//ChamberMaster//Event Calendar 2.0//EN
METHOD:PUBLISH
X-PUBLISHED-TTL:P3D
REFRESH-INTERVAL:P3D
CALSCALE:GREGORIAN
BEGIN:VEVENT
DTSTART:20200109T230000Z
DTEND:20200110T000000Z
X-MICROSOFT-CDO-ALLDAYEVENT:FALSE
SUMMARY:Make Medicare an easy step
DESCRIPTION:Make Medicare an easy step with our workshop\n\n \n\nHARRISONBURG\, Va.   Moving onto Medicare can be confusing and complex. If you or someone you know thinking of retiring soon\, you have many Medicare rules and enrollment periods to understand.\n\n \n\nEverence Financial will continue its popular series of Medicare education workshops for the public on Thursday\, Jan. 9\, at 6 p.m. The events provide important information about various Medicare options and how to move from current health coverage to Medicare.   \n\n \n\n"As people approach retirement\, they have a lot of questions about Medicare\," says Chan Gingerich\, LUTCF\, CLTC Financial Services Representative and Health Insurance Specialist. "The goal of these workshops is to address those questions and concerns\, and then to help people choose options that fit their specific situation and needs."\n\n \n\nAttend the free workshop on Thursday\, Jan. 9\, at 6 p.m. at The Gathering Place\, 841 Mount Clinton Pike\, Harrisonburg\, Virginia. Chan Gingerich and Brian Rhodes\, Financial Consultant*\, will lead the seminar. \n\n \n\nLearn more at everence.com/harrisonburg. You can register online at everence.com/harrisonburg\, email harrisonburg@everence.com or call 540-437-7422.\n\n \n\nEverence helps individuals\, organizations and congregations integrate finances with faith through a national team of advisors and representatives. Everence offers banking\, insurance and financial services with community benefits and stewardship education.\n\n \n\n *Securities offered through ProEquities Inc.\, a registered broker-dealer\, member FINRA and SIPC. Investments and other products are not NCUA or otherwise federally insured\, may involve loss of principal and have no credit union guarantee. \n\n \n\nProducts and services offered through Everence Trust Company and other Everence entities are independent of and are not guaranteed or endorsed by ProEquities\, Inc.\, or its affiliates \n\n \n\n###\n\n \n\nFor more information\, contact the Everence office in Harrisonburg:\n\n(540) 437-7422 or harrisonburg@everence.com.
X-ALT-DESC;FMTTYPE=text/html:&nbsp\;<br />\n<strong><span style="font-size:11pt"><span style="font-family:verdana\,sans-serif"><span style="color:black">Make Medicare an easy step with our workshop</span></span></span></strong><br />\n&nbsp\;<br />\n<span style="font-size:11pt"><span style="font-family:verdana\,sans-serif">HARRISONBURG\, Va. &ndash\; Moving onto Medicare can be confusing and complex. If you or someone you know thinking of retiring soon\, you have many Medicare rules and enrollment periods to understand.</span></span><br />\n&nbsp\;<br />\n<span style="font-size:11pt"><span style="font-family:verdana\,sans-serif">Everence Financial will continue its popular series of Medicare education workshops for the public on <strong>Thursday\, Jan. 9\, at 6 p.m</strong>. The events provide important information about various Medicare options and how to move from current health coverage to Medicare.&nbsp\;&nbsp\; </span></span><br />\n&nbsp\;<br />\n<span style="font-size:11pt"><span style="font-family:verdana\,sans-serif">&ldquo\;As people approach retirement\, they have a lot of questions about Medicare\,&rdquo\; says Chan Gingerich\, LUTCF\, CLTC Financial Services Representative and Health Insurance Specialist. &ldquo\;The goal of these workshops is to address those questions and concerns\, and then to help people choose options that fit their specific situation and needs.&rdquo\;</span></span><br />\n&nbsp\;<br />\n<span style="font-size:11pt"><span style="font-family:verdana\,sans-serif">Attend the free workshop on <strong>Thursday\, Jan. 9\,</strong> <strong>at 6 p.m.</strong> at The Gathering Place\, 841 Mount Clinton Pike\, Harrisonburg\, Virginia. Chan Gingerich and Brian Rhodes\, Financial Consultant*\, will lead the seminar. </span></span><br />\n&nbsp\;<br />\n<span style="font-size:11pt"><span style="font-family:verdana\,sans-serif">Learn more at everence.com/harrisonburg. You can register online at everence.com/harrisonburg\, email </span></span><span style="font-size:11pt"><span style="font-family:verdana\,sans-serif">harrisonburg@everence.com</span></span><span style="font-size:11pt"><span style="font-family:verdana\,sans-serif"> or call 540-437-7422.</span></span><br />\n&nbsp\;<br />\n<em><span style="font-size:11pt"><span style="font-family:verdana\,sans-serif">Everence helps individuals\, organizations and congregations integrate finances with faith through a national team of advisors and representatives. Everence offers banking\, insurance and financial services with community benefits and stewardship education.</span></span></em><br />\n&nbsp\;<br />\n&nbsp\;<em><span style="font-size:10pt"><span style="font-family:sabon lt std\,serif"><span style="color:rgb(59\, 80\, 85)">*Securities offered through ProEquities Inc.\, a registered broker-dealer\, member FINRA and SIPC. Investments and other products are not NCUA or otherwise federally insured\, may involve loss of principal and have no credit union guarantee. </span></span></span></em><br />\n&nbsp\;<br />\n<em><span style="font-size:10pt"><span style="font-family:sabon lt std\,serif"><span style="color:rgb(59\, 80\, 85)">Products and services offered through Everence Trust Company and other Everence entities are independent of and are not guaranteed or endorsed by ProEquities\, Inc.\, or its affiliates </span></span></span></em><br />\n&nbsp\;<br />\n<span style="font-size:11pt"><span style="font-family:verdana\,sans-serif">###</span></span><br />\n&nbsp\;<br />\n<strong><span style="font-size:11pt"><span style="font-family:verdana\,sans-serif"><span style="color:black">For more information\, contact the Everence office in Harrisonburg:</span></span></span></strong><br />\n<span style="font-size:11pt"><span style="font-family:verdana\,sans-serif"><span style="color:black">(540) 437-7422 or harrisonburg@everence.com.</span></span></span><br />\n&nbsp\;
LOCATION:The Gathering Place\, 841 Mount Clinton Pike\, Harrisonburg\, VA
UID:e.2338.8519
SEQUENCE:3
DTSTAMP:20260419T120824Z
URL:https://chamber.hrchamber.org/events/details/make-medicare-an-easy-step-8519
END:VEVENT

END:VCALENDAR
