BEGIN:VCALENDAR
VERSION:2.0
PRODID:-//ChamberMaster//Event Calendar 2.0//EN
METHOD:PUBLISH
X-PUBLISHED-TTL:P3D
REFRESH-INTERVAL:P3D
CALSCALE:GREGORIAN
BEGIN:VEVENT
DTSTART:20190916T220000Z
DTEND:20190916T230000Z
X-MICROSOFT-CDO-ALLDAYEVENT:FALSE
SUMMARY:Make a Change Monday! - with Rebecca Penrod
DESCRIPTION:Join us at White Birch Communities for a talk on the Power of Positivity\, presented by Rebecca Penrod of Mather Architects! Open to both Chamber and Non-Chamber members. Light refreshments will be provided.
X-ALT-DESC;FMTTYPE=text/html:<span style="background-color:rgb(255\, 255\, 255)\; color:rgb(51\, 51\, 51)\; font-family:sans-serif\,arial\,verdana\,trebuchet ms\; font-size:13px">Join us at White Birch Communities for a talk on the Power of Positivity\, presented by Rebecca Penrod of Mather Architects! Open to both Chamber and Non-Chamber members. Light refreshments will be provided.</span>
LOCATION:White Birch Communities sun room
UID:e.2338.6864
SEQUENCE:3
DTSTAMP:20260419T173040Z
URL:https://chamber.hrchamber.org/events/details/make-a-change-monday-with-rebecca-penrod-6864
END:VEVENT

END:VCALENDAR
