BEGIN:VCALENDAR
VERSION:2.0
PRODID:-//ChamberMaster//Event Calendar 2.0//EN
METHOD:PUBLISH
X-PUBLISHED-TTL:P3D
REFRESH-INTERVAL:P3D
CALSCALE:GREGORIAN
BEGIN:VEVENT
DTSTART:20191216T230000Z
DTEND:20191217T000000Z
X-MICROSOFT-CDO-ALLDAYEVENT:FALSE
SUMMARY:Networking Opportunity: Make a Change Monday! - with Laura Evans and Beth Driver
DESCRIPTION:Join us at White Birch Communities for the "You Have Been Named as Fiduciary for a Loved One\, What's Next?"  talk on the duties of fiduciaries for powers of attorney and health care agents\, delivered by Laura A. Evans and Beth C. Driver! The presentation will cover what powers of attorney are (and what roles they fill)\, what advance medical directives are\, and provide tips and tricks on what duties fiduciaries must complete (i.e. how to sign as attorney-in-fact\, how to keep records\, etc.). Open to both Chamber and Non-Chamber members. Light refreshments will be provided.
X-ALT-DESC;FMTTYPE=text/html:<span style="background-color:rgb(255\, 255\, 255)\; color:rgb(51\, 51\, 51)\; font-family:sans-serif\,arial\,verdana\,trebuchet ms\; font-size:13px">Join us at White Birch Communities for the &quot\;You Have Been Named as Fiduciary for a Loved One\, What&#39\;s Next?&quot\;&nbsp\; talk on the&nbsp\;</span><span style="color:rgb(34\, 34\, 34)\; font-family:arial\,helvetica\,sans-serif\; font-size:small">duties of fiduciaries for powers of attorney and health care agents</span><span style="background-color:rgb(255\, 255\, 255)\; color:rgb(51\, 51\, 51)\; font-family:sans-serif\,arial\,verdana\,trebuchet ms\; font-size:13px">\, delivered by Laura A. Evans and Beth C. Driver</span><span style="background-color:rgb(255\, 255\, 255)\; color:rgb(51\, 51\, 51)\; font-family:sans-serif\,arial\,verdana\,trebuchet ms\; font-size:13px">! </span><span style="background-color:rgb(255\, 255\, 255)\; color:rgb(34\, 34\, 34)\; font-family:arial\,helvetica\,sans-serif\; font-size:small">The presentation will cover what powers of attorney are (and what roles they fill)\, what advance medical directives are\, and provide tips and tricks on what duties fiduciaries must complete (i.e. how to sign as attorney-in-fact\, how to keep records\, etc.).&nbsp\;</span><span style="font-family:sans-serif\,arial\,verdana\,trebuchet ms">Open to both Chamber and Non-Chamber members. Light refreshments will be provided</span><span style="color:rgb(34\, 34\, 34)\; font-family:arial\,helvetica\,sans-serif\; font-size:small">.</span>
LOCATION:White Birch Communities\, main dining hall
UID:e.2338.6911
SEQUENCE:3
DTSTAMP:20260419T121813Z
URL:https://chamber.hrchamber.org/events/details/make-a-change-monday-with-laura-evans-and-beth-driver-6911
END:VEVENT

END:VCALENDAR
