BEGIN:VCALENDAR
VERSION:2.0
PRODID:-//ChamberMaster//Event Calendar 2.0//EN
METHOD:PUBLISH
X-PUBLISHED-TTL:P3D
REFRESH-INTERVAL:P3D
CALSCALE:GREGORIAN
BEGIN:VEVENT
DTSTART:20190909T220000Z
DTEND:20190909T230000Z
X-MICROSOFT-CDO-ALLDAYEVENT:FALSE
SUMMARY:Make a Change Monday! - with Jeanette Suter
DESCRIPTION:Join us at White Birch Communities for a discussion on the Emotional Aspects of Caregiving\, led by Jeanette Suter from Home Instead Senior Care. During her discussion\, you will learn some of the common feelings that many caregivers experience\, discover the importance of not repressing your emotions\, and find out how best to cope with your feelings. Open to both Chamber members and non-Chamber members. Light refreshments will be provided.
X-ALT-DESC;FMTTYPE=text/html:<span style="font-family:verdana"><small><samp><span style="font-size:14px"><span style="background-color:rgb(255\, 255\, 255)\; color:rgb(51\, 51\, 51)">Join us at White Birch Communities for a discussion on the</span><span style="color:#000000">&nbsp\;Emotional Aspects of Caregiving\, led by Jeanette Suter from Home Instead Senior Care. During her discussion\, you will l</span>earn some of the common feelings that many caregivers experience\, discover the importance of not repressing your emotions\, and find out how best to cope with your feelings.&nbsp\;<span style="background-color:rgb(255\, 255\, 255)\; color:rgb(51\, 51\, 51)">Open to both Chamber members and non-Chamber members. Light refreshments will be provided.</span></span></samp></small></span>
LOCATION:White Birch Communities dining room
UID:e.2338.6865
SEQUENCE:3
DTSTAMP:20260419T171938Z
URL:https://chamber.hrchamber.org/events/details/make-a-change-monday-with-dr-margaret-sasscer-6865
END:VEVENT

END:VCALENDAR
