BEGIN:VCALENDAR
VERSION:2.0
PRODID:-//ChamberMaster//Event Calendar 2.0//EN
METHOD:PUBLISH
X-PUBLISHED-TTL:P3D
REFRESH-INTERVAL:P3D
CALSCALE:GREGORIAN
BEGIN:VEVENT
DTSTART:20190930T220000Z
DTEND:20190930T230000Z
X-MICROSOFT-CDO-ALLDAYEVENT:FALSE
SUMMARY:Networking Opportunity: Make a Change Monday! - with Christy Barko
DESCRIPTION:Join us at White Birch Communities for a discussion on the "Best Kept Secret to a Healthier You"\, led by Christy Barko! Open to both Chamber and Non-Chamber members. Light refreshments will be provided.
X-ALT-DESC;FMTTYPE=text/html:<span style="background-color:rgb(255\, 255\, 255)\; color:rgb(51\, 51\, 51)\; font-family:sans-serif\,arial\,verdana\,trebuchet ms\; font-size:13px">Join us at White Birch Communities for a discussion on the &quot\;Best Kept Secret to a Healthier You&quot\;\, led by Christy Barko! Open to both Chamber and Non-Chamber members. Light refreshments will be provided.</span>
LOCATION:White Birch Communities\, main dining hall
UID:e.2338.6916
SEQUENCE:3
DTSTAMP:20260419T171800Z
URL:https://chamber.hrchamber.org/events/details/make-a-change-monday-with-christy-barko-6916
END:VEVENT

END:VCALENDAR
