BEGIN:VCALENDAR
VERSION:2.0
PRODID:-//ChamberMaster//Event Calendar 2.0//EN
METHOD:PUBLISH
X-PUBLISHED-TTL:P3D
REFRESH-INTERVAL:P3D
CALSCALE:GREGORIAN
BEGIN:VEVENT
DTSTART:20190131T123000Z
DTEND:20190131T140000Z
X-MICROSOFT-CDO-ALLDAYEVENT:FALSE
SUMMARY:Madison Network Event | Harrisonburg
DESCRIPTION:Madison Network Event I Harrisonburg \n			Thursday\,January 31\, 7:30 a.m. - 9:00 a.m.\n\n			Looking to amplify your involvement in the local community? Then you won't want to miss this event! Join us for a networking breakfast followed by a panel of guest speakers from JMU and the local community\, as they share how they have been able to create a wave of positive impact through meaningful and collaborative partnerships. \n\n			\n\n			\n\n			For more information and to RSVP to this free event\, click the RSVP button below. \n\n			RSVP
X-ALT-DESC;FMTTYPE=text/html:<table align="center" border="0" cellpadding="0" cellspacing="0" style="border-collapse:collapse\; width:600px">\n	<tbody>\n		<tr>\n			<td style="vertical-align:top\; width:600px">\n			<h1 style="text-align:center"><span style="color:#333333">Madison Network Event I Harrisonburg&nbsp\;</span></h1>\n			<em><span style="color:#333333"><span style="font-family:arial\,sans-serif">Thursday\,January 31\, 7:30 a.m. - 9:00 a.m.</span></span></em><br />\n			<span style="color:#333333">Looking to amplify your involvement in the local community? Then you won&#39\;t want to miss this event! Join us for a networking breakfast followed by a panel of guest speakers from JMU and the local community\, as they share how they have been able to create a wave of positive impact through meaningful and collaborative partnerships.&nbsp\;</span><br />\n			<br />\n			<br />\n			<span style="color:#333333">For more information and to RSVP to this free event\, click the RSVP button below.&nbsp\;</span><br />\n			<strong><a href="http://emclick.imodules.com/wf/click?upn=KrSWFPtEjYsOyCcxVgdrD92jD-2FuLwLg6xQl4g7lfVoo9ICkEJcYcCqLx9w3XqzoNDO7Ybc5Ns9oS8uxjeqXRid72yZFXkZDRpJIuIAmuyEImu1VxTrQh-2Fh-2FwpBvi2MxTOhLxqvphSSSjiNRGR5Yn3rnodDLD945CC2m5RIXTn873GOl4kjPxhUictSJF0NwOjxVw9qufVpTsf0u9gPk7uw-3D-3D_QQd686r610-2FF8luKZWCDZbHBraHaeLPRrByXNLh3mycrfjlInJJZRe-2BheFEDjKu9mcVtaywxFLct-2FqUuqxKSu-2BGOu0YGr-2BOkn5WFc0o-2FVgQAxVbale-2Fkf4uawzbfIyd-2FolrQyZD8W-2FAqiM5MHhUYmd9eMQ5oqjJhLvz970fNsbm5s1OEMAFEAuuSEc18yfEzyoQR-2BPli6XI2XL9tJZReFIfQd5z1h-2FWIxyhYEQY5ikMFrRSgYgaUQgqX-2Bp8Vkyf1640gxSMPa5KMNOiFSDDw7F69bXrf2VDDzdVLGJmr0JB2o8gnMq0no9GeYdmR67-2FwAX1GRyveqSbLmDtxQpevkAYphgOjGy-2FHsUidDSQW9HO45vZNNPPvwSK3i9EXl57d5x7b1MeQpMuTYdOBJHueN6n-2BClgjLQTz6pgZj2k-2B-2BG7dPvgj3R3WfAKaa6SjUtk-2BwF-2FpRju4ZQX3fv5Kh-2B-2Bepw-3D-3D" target="_blank">RSVP</a></strong></td>\n		</tr>\n	</tbody>\n</table>\n\n<div>&nbsp\;</div>\n
LOCATION:JMU- Leeolou Alumni Center\, The Great Room
UID:e.2338.6130
SEQUENCE:3
DTSTAMP:20260420T043200Z
URL:https://chamber.hrchamber.org/events/details/madison-network-event-harrisonburg-6130
END:VEVENT

END:VCALENDAR
