BEGIN:VCALENDAR
VERSION:2.0
PRODID:-//ChamberMaster//Event Calendar 2.0//EN
METHOD:PUBLISH
X-PUBLISHED-TTL:P3D
REFRESH-INTERVAL:P3D
CALSCALE:GREGORIAN
BEGIN:VEVENT
DTSTART:20190222T203000Z
DTEND:20190222T220000Z
X-MICROSOFT-CDO-ALLDAYEVENT:FALSE
SUMMARY:Madison Network Event- Apps and Conversations
DESCRIPTION:The Office of Alumni Relations is honored to host a Madison Network Student and Alumni Diversity Day on Friday\, February 22\, 2019.\n\n \n\nThe Madison Network Student and Alumni Diversity Day will foster meaningful connections and conversation among Dukes of diverse experiences and backgrounds\; encouraging all participants to thoughtfully evaluate the role diversity plays on campus as well as in their own lives.\n\n \n\nWe would like to invite you to attend our Apps and Conversations event in the Leeolou Alumni Center's Great Room to top off what we imagine will be an immensely meaningful day. This will be an opportunity for faculty\, staff\, alumni and community members to casually network with the distinguished alumni who are returning to campus to speak on the topic of diversity at the Student Networking Brunch and Diversity Dialogue event earlier in the day. We hope that you'll join us! \n\n \n\n\n\nMadison Network Event- Apps and Conversations \n\nFriday\, February 22 | 3:30pm   5:00pm\n\nJames Madison University\n\nLeeolou Alumni Center\, The Great Room\n\nEvent is Free\, RSVP required. Heavy hors d'oeuvres will be served. \n\n\n\nClick here to RSVP.
X-ALT-DESC;FMTTYPE=text/html:<span style="color:#414042"><span style="font-family:arial\,sans-serif"><span style="font-size:10.5pt">The Office of Alumni Relations is honored to host a Madison Network Student and Alumni Diversity Day on Friday\, February 22\, 2019.</span></span></span><br />\n&nbsp\;<br />\n<span style="color:#414042"><span style="font-family:arial\,sans-serif"><span style="font-size:10.5pt">The Madison Network Student and Alumni Diversity Day will foster meaningful connections and conversation among Dukes of diverse experiences and backgrounds\; encouraging all participants to thoughtfully evaluate the role diversity plays on campus as well as in their own lives.</span></span></span><br />\n&nbsp\;<br />\n<span style="color:#414042"><span style="font-family:arial\,sans-serif"><span style="font-size:10.5pt">We would like to invite you to attend our <em>Apps and Conversations</em> event in the Leeolou Alumni Center&rsquo\;s Great Room to top off what we imagine will be an immensely meaningful day. This will be an opportunity for faculty\, staff\, alumni and community members to casually network with the distinguished alumni who are returning to campus to speak on the topic of diversity at the Student Networking Brunch and Diversity Dialogue event earlier in the day. We hope that you&rsquo\;ll join us! </span></span></span><br />\n&nbsp\;<br />\n<br />\n<strong><span style="font-family:arial\,sans-serif"><span style="font-size:10.5pt">Madison Network Event- Apps and Conversations </span></span></strong><br />\n<span style="font-family:arial\,sans-serif"><span style="font-size:10.5pt">Friday\, February 22 | 3:30pm &ndash\; 5:00pm<br />\nJames Madison University</span></span><br />\n<span style="font-family:arial\,sans-serif"><span style="font-size:10.5pt">Leeolou Alumni Center\, The Great Room</span></span><br />\n<span style="font-family:arial\,sans-serif"><span style="font-size:10.5pt">Event is Free\, RSVP required. Heavy hors d&rsquo\;oeuvres will be served. </span></span><br />\n<br />\n<a href="https://www.alumni.jmu.edu/s/1591/18/interior.aspx?sid=1591&amp\;gid=3&amp\;pgid=5823&amp\;content_id=5100">Click here to RSVP</a>.&nbsp\;
LOCATION:
UID:e.2338.6287
SEQUENCE:3
DTSTAMP:20260420T030404Z
URL:https://chamber.hrchamber.org/events/details/madison-network-event-apps-and-conversations-6287
END:VEVENT

END:VCALENDAR
