BEGIN:VCALENDAR
VERSION:2.0
PRODID:-//ChamberMaster//Event Calendar 2.0//EN
METHOD:PUBLISH
X-PUBLISHED-TTL:P3D
REFRESH-INTERVAL:P3D
CALSCALE:GREGORIAN
BEGIN:VEVENT
DTSTART:20160229T180000Z
DTEND:20160229T190000Z
X-MICROSOFT-CDO-ALLDAYEVENT:FALSE
SUMMARY:Lunchtime Lyceum
DESCRIPTION:Local author Tim Hupp discusses his research and book: Children Lost in the Mountains.
X-ALT-DESC;FMTTYPE=text/html:Local author Tim Hupp discusses his research and book: Children Lost in the Mountains.
LOCATION:Central Library 174 S. Main Street Harrisonburg\, VA
UID:e.2338.327
SEQUENCE:3
DTSTAMP:20260422T092313Z
URL:https://chamber.hrchamber.org/events/details/lunchtime-lyceum-02-29-2016-327
END:VEVENT

END:VCALENDAR
