BEGIN:VCALENDAR
VERSION:2.0
PRODID:-//ChamberMaster//Event Calendar 2.0//EN
METHOD:PUBLISH
X-PUBLISHED-TTL:P3D
REFRESH-INTERVAL:P3D
CALSCALE:GREGORIAN
BEGIN:VEVENT
DTSTART:20151119T200000Z
DTEND:20151119T220000Z
X-MICROSOFT-CDO-ALLDAYEVENT:FALSE
SUMMARY:Looking for deposit coverage beyond the FDIC limits\, all in one place? Join us to hear more.
DESCRIPTION:F&M Bank invites you to learn more about how you can with Insured Cash Sweep Services. Join us for  a presentation and free lunch or reception in your area.
X-ALT-DESC;FMTTYPE=text/html:<span style="color:rgb(0\, 0\, 0)\; font-family:raleway\,helvetica\,arial\,sans-serif\; font-size:14px">F&amp\;M Bank invites you to learn more about how you can with Insured Cash Sweep Services. Join us for &nbsp\;a presentation and free lunch or reception in your area.</span>
LOCATION:BRCC Plecker Workforce Center
UID:e.2338.301
SEQUENCE:3
DTSTAMP:20260424T131710Z
URL:https://chamber.hrchamber.org/events/details/looking-for-deposit-coverage-beyond-the-fdic-limits-all-in-one-place-join-us-to-hear-more-11-19-2015-301
END:VEVENT

END:VCALENDAR
