BEGIN:VCALENDAR
VERSION:2.0
PRODID:-//ChamberMaster//Event Calendar 2.0//EN
METHOD:PUBLISH
X-PUBLISHED-TTL:P3D
REFRESH-INTERVAL:P3D
CALSCALE:GREGORIAN
BEGIN:VEVENT
DTSTART:20170327T110000Z
DTEND:20170402T190000Z
X-MICROSOFT-CDO-ALLDAYEVENT:FALSE
SUMMARY:Little Grill Fundraiser for Skyline Literacy
DESCRIPTION:March 27th - April 2nd\, Little Grill will be offering a breakfast special -- The Guatamalan\, and at the end of the week\, will donate 20% of the profits made from it to Skyline!
X-ALT-DESC;FMTTYPE=text/html:March 27th - April 2nd\, Little Grill will be offering a breakfast special -- The Guatamalan\, and at the end of the week\, will donate 20% of the profits made from it to Skyline!
LOCATION:The Little Grill Collective\, 621 N. Main St. Harrisonburg\, VA 22802
UID:e.2338.1559
SEQUENCE:3
DTSTAMP:20260421T121202Z
URL:https://chamber.hrchamber.org/events/details/little-grill-fundraiser-for-skyline-literacy-1559
END:VEVENT

END:VCALENDAR
