BEGIN:VCALENDAR
VERSION:2.0
PRODID:-//ChamberMaster//Event Calendar 2.0//EN
METHOD:PUBLISH
X-PUBLISHED-TTL:P3D
REFRESH-INTERVAL:P3D
CALSCALE:GREGORIAN
BEGIN:VEVENT
DTSTART:20190620T230000Z
DTEND:20190621T003000Z
X-MICROSOFT-CDO-ALLDAYEVENT:FALSE
SUMMARY:Letters From Home: A Third Thursday Talk at The Heritage Museum
DESCRIPTION:June 20\, 7pm: For the June Third Thursday Talk\, The Heritage Museum presents "Letters From Home: Travels of Esther Matthews of Lacy Spring\, 1840-1860." Experience the antebellum life of quilter Esther Matthews as told by Neva Hart. Share the event and bring your friends and family!\n \n\nhttps://www.facebook.com/events/2320075664981550/
X-ALT-DESC;FMTTYPE=text/html:<span style="background-color:rgb(255\, 255\, 255)\; color:rgb(29\, 33\, 41)\; font-family:system-ui\,-apple-system\,blinkmacsystemfont\,.sfnstext-regular\,sans-serif\; font-size:14px">June 20\, 7pm: For the June Third Thursday Talk\, The Heritage Museum presents &quot\;Letters From Home: Travels of Esther Matthews of Lacy Spring\, 1840-1860.&quot\; Experience the antebellum life of quilter Esther Matthews as told by Neva Hart. Share the event and bring your friends and family!</span>\n<div>&nbsp\;</div>\n\n<div><a href="https://www.facebook.com/events/2320075664981550/">https://www.facebook.com/events/2320075664981550/</a></div>\n
LOCATION:The Heritage Museum 382 High Street Dayton\, VA 22821
UID:e.2338.6589
SEQUENCE:3
DTSTAMP:20260419T211329Z
URL:https://chamber.hrchamber.org/events/details/letters-from-home-a-third-thursday-talk-at-the-heritage-museum-6589
END:VEVENT

END:VCALENDAR
