BEGIN:VCALENDAR
VERSION:2.0
PRODID:-//ChamberMaster//Event Calendar 2.0//EN
METHOD:PUBLISH
X-PUBLISHED-TTL:P3D
REFRESH-INTERVAL:P3D
CALSCALE:GREGORIAN
BEGIN:VEVENT
DTSTART:20180429T170000Z
DTEND:20180429T210000Z
X-MICROSOFT-CDO-ALLDAYEVENT:FALSE
SUMMARY:LEGO League Jr. EXPO
DESCRIPTION:Explore More's second FIRST LEGO League Jr. EXPO serves our region's young creators. Builders ages 6-9 ignite their creativity every year through a new and exciting challenge presented by FIRST LEGO League Jr. Teams. Children use basic engineering concepts to build a model made of LEGO elements that is presented at the Expo.
X-ALT-DESC;FMTTYPE=text/html:Explore More&rsquo\;s second FIRST LEGO League Jr. EXPO serves our region&#39\;s young creators. Builders ages 6-9 ignite their creativity every year through a new and exciting challenge presented by FIRST LEGO League Jr. Teams. Children use basic engineering concepts to build a model made of LEGO elements that is presented at the Expo.
LOCATION:Explore More Discovery Museum 150 South Main Street Harrisonburg\, VA\, 22801
UID:e.2338.3709
SEQUENCE:3
DTSTAMP:20260420T113954Z
URL:https://chamber.hrchamber.org/events/details/lego-league-jr-expo-3709
END:VEVENT

END:VCALENDAR
