BEGIN:VCALENDAR
VERSION:2.0
PRODID:-//ChamberMaster//Event Calendar 2.0//EN
METHOD:PUBLISH
X-PUBLISHED-TTL:P3D
REFRESH-INTERVAL:P3D
CALSCALE:GREGORIAN
BEGIN:VEVENT
DTSTART:20180305T170000Z
DTEND:20180305T180000Z
X-MICROSOFT-CDO-ALLDAYEVENT:FALSE
SUMMARY:Leadership Smarts · Leadership Gold
DESCRIPTION:Based on John Maxwell's Leadership Gold\, you will gain insight from John's 40 years of mining the gold nuggets of leadership from his hardest-won leadership lessons. \n\n\n\nEmerging leaders will love the foundation Leadership Gold provides.  Experienced leaders will enjoy the advantage Maxwell's insights give. Mentoring leaders will want to use the nuggets provided to develop the next generation of leaders.  All will benefit from insights given from Dove Development & Consulting's nearly 40 years of combined leadership experience.   Join us for this quarterly Leadership Smarts Series as Dove Development & Consulting guides area leaders in developing their leadership and communication skills at the highest level.  \n\n\n\nAbout the presenters:\n\nWes Dove is the founder of Dove Development & Consulting\, a company committed to providing premium leadership and personnel development resources\, as well as strategic business development support\, to organizations and individuals who want to reach that next level. Wes is an independent certified coach\, trainer\, and speaker with The John Maxwell Team and a Certified Human Behavior Consultant using The DISC Model of Human Behavior through Personality Insights. Wes served on the 2016 and 2017 John C. Maxwell Transformational Leadership Award Selection Committees as well as the 2017 LIVE2LEAD Simulcast Advisory Committee\, providing mentorship and guidance to more than 300 simulcast hosts around the world.\n\n\n\nCindy Dove Having a background of 23 years in the healthcare field with responsibility for operations\, sales and a focus on senior living\, applying a foundation of John Maxwell's leadership principles\, Cindy created high levels of success for the teams and companies she served.  In 2016\, she joined Dove Development & Consulting as an independent certified coach\, trainer\, and speaker with The John Maxwell Team. She is also a Certified Human Behavior Consultant using The DISC Model of Human Behavior through Personality Insights and was recently named an Executive Director with The John Maxwell Team\, licensing her to deliver the same leadership development content that corporations such as Microsoft\, Delta Airlines\, Chick-fil-A\, and Hendrick Motorsports had previously only had access to through a select few consultants with The John Maxwell Company.
X-ALT-DESC;FMTTYPE=text/html:<span style="font-size:11px\;"><span style="font-family:verdana\;">Based on John Maxwell&rsquo\;s <em><strong>Leadership Gold</strong>\, </em>you will gain insight from John&rsquo\;s 40 years of mining the gold nuggets of leadership from his hardest-won leadership lessons.&nbsp\;<br />\n<br />\nEmerging leaders will love the foundation <em>Leadership Gold</em> provides.&nbsp\; Experienced leaders will enjoy the advantage Maxwell&rsquo\;s insights give. Mentoring leaders will want to use the nuggets provided to develop the next generation of leaders.&nbsp\; All will benefit from insights given from Dove Development &amp\; Consulting&rsquo\;s nearly 40 years of combined leadership experience. &nbsp\;&nbsp\;Join us for this quarterly Leadership Smarts Series as Dove Development &amp\; Consulting guides area leaders in developing their leadership and communication skills at the highest level.&nbsp\;&nbsp\;<br />\n<br />\n<strong><u>About the presenters:</u></strong><br />\n<span style="color: rgb(68\, 68\, 68)\; background-color: rgb(255\, 255\, 255)\;"><em><strong>Wes Dove</strong></em> is the founder of Dove Development &amp\; Consulting\, a company committed to providing premium leadership and </span></span></span><span background-color:="" helvetica="" style="color: rgb(68\, 68\, 68)\; font-family: "><span style="font-size:11px\;"><span style="font-family:verdana\;">personnel</span></span><span style="font-size:11px\;"><span style="font-family:verdana\;"> development resources\, as well as strategic business development support\, to organizations and individuals who want to reach that next level. Wes is an </span></span><span style="font-size:11px\;"><span style="font-family:verdana\;">independent</span></span></span><span style="font-size:11px\;"><span style="font-family:verdana\;"><span style="color: rgb(68\, 68\, 68)\; background-color: rgb(255\, 255\, 255)\;"> certified coach\, trainer\, and speaker with The John Maxwell Team and a Certified Human Behavior Consultant using The DISC Model of Human Behavior through Personality Insights.&nbsp\;Wes served on the 2016 and 2017 John C. Maxwell Transformational Leadership Award Selection Committees as well as the 2017 LIVE2LEAD Simulcast Advisory Committee\, providing mentorship and guidance to more than 300 simulcast hosts around the world.</span></span></span><br />\n<br />\n<span style="font-size:11px\;"><span style="font-family:verdana\;"><em><strong>Cindy Dove&nbsp\;</strong></em><span style="color: rgb(68\, 68\, 68)\;">Having a background of 23 years in the healthcare field with responsibility for operations\, sales and a focus on senior living\, applying a foundation of John Maxwell&rsquo\;s leadership principles\, Cindy created high levels of success for the teams and companies she served.&nbsp\; In 2016\, she joined Dove Development &amp\; Consulting as an </span></span></span><span font-size:="" helvetica="" style="color: rgb(68\, 68\, 68)\; font-family: "><span style="font-size:11px\;"><span style="font-family:verdana\;">independent</span></span></span><span style="font-size:11px\;"><span style="font-family:verdana\;"><span style="color: rgb(68\, 68\, 68)\;"> certified coach\, trainer\, and speaker with The John Maxwell Team.&nbsp\;She is also a Certified Human Behavior Consultant using The DISC Model of Human Behavior through Personality Insights and was recently named an Executive Director with The John Maxwell Team\, licensing her to deliver the same leadership development content that corporations such as Microsoft\, Delta Airlines\, Chick-fil-A\, and Hendrick Motorsports had previously only had access to through a select few consultants with The John Maxwell Company.&nbsp\;</span></span></span>
LOCATION:Harrisonburg-Rockingham Chamber of Commerce 800 Country Club Road Harrisonburg\, VA 22801
UID:e.2338.3628
SEQUENCE:3
DTSTAMP:20260420T100826Z
URL:https://chamber.hrchamber.org/events/details/leadership-smarts-leadership-gold-3628
END:VEVENT

END:VCALENDAR
