BEGIN:VCALENDAR
VERSION:2.0
PRODID:-//ChamberMaster//Event Calendar 2.0//EN
METHOD:PUBLISH
X-PUBLISHED-TTL:P3D
REFRESH-INTERVAL:P3D
CALSCALE:GREGORIAN
BEGIN:VEVENT
DTSTART:20190318T160000Z
DTEND:20190318T173000Z
X-MICROSOFT-CDO-ALLDAYEVENT:FALSE
SUMMARY:Leadership Smarts - A Leader's Impact on Recruitment & Retention
DESCRIPTION:"People come in through that door because they have a reason they want to be part of that company. But their desire for 'greener pastures' is often motivated by the need to get away from someone."\n\n- John C. Maxwell\n\n"The U.S. Bureau of Labor Statistics has found that the U.S. voluntary turnover rate is 23.4% annually. It's generally estimated that replacing an employee costs a business one-half to five times that employee's annual salary. So\, if 25% of a business' workforce leaves and the average pay is $35\,000\, it could cost a 100-person firm between $438\,000 and $4 million a year to replace employees.\n\n- Gallup.com\n\nJoin us for this critical session discussing the impact that effective leadership at each level can have on that organization's recruitment and retention. And while that's a huge need for most companies in today's environment of low unemployment\, this session will also cover key steps that impact productivity and profitability. To register: https://www.eventbrite.com/e/leadership-smarts-a-leaders-impact-on-recruitment-retention-tickets-55528735944\n\n\n\nLUNCH:\n\nA boxed lunch option will be provided as part of registration. Please let us know of any special dietary needs by emailing Cindy Dove at cindy@dove-development.net\n\n\n\n\n\n\nAbout the presenters:\n\nWes Dove is the founder of Dove Development & Consulting\, a company committed to providing premium leadership and personnel development resources\, as well as strategic business development support\, to organizations and individuals who want to reach that next level. Wes is an independent certified coach\, trainer\, and speaker with The John Maxwell Team and a Certified Human Behavior Consultant using The DISC Model of Human Behavior through Personality Insights. Wes served on the 2016 and 2017 John C. Maxwell Transformational Leadership Award Selection Committees as well as the 2017 LIVE2LEAD Simulcast Advisory Committee\, providing mentorship and guidance to more than 300 simulcast hosts around the world.\n\n\n\nCindy Dove Having a background of 23 years in the healthcare field with responsibility for operations\, sales and a focus on senior living\, applying a foundation of John Maxwell's leadership principles\, Cindy created high levels of success for the teams and companies she served.  In 2016\, she joined Dove Development & Consulting as an independent certified coach\, trainer\, and speaker with The John Maxwell Team. She is also a Certified Human Behavior Consultant using The DISC Model of Human Behavior through Personality Insights and was recently named an Executive Director with The John Maxwell Team\, licensing her to deliver the same leadership development content that corporations such as Microsoft\, Delta Airlines\, Chick-fil-A\, and Hendrick Motorsports had previously only had access to through a select few consultants with The John Maxwell Company.
X-ALT-DESC;FMTTYPE=text/html:<p font-size:="" helvetica="" letter-spacing:="" neue="" style="margin: 0px\; padding: 0px\; color: rgb(111\, 114\, 135)\; font-family: "><span style="color:#000000\;"><span style="font-size:11px\;"><span style="font-family:tahoma\;"><span style="padding-top: 0px\;">&ldquo\;People come in through that door because they have a reason they want to be part of that company. But their desire for &lsquo\;greener pastures&rsquo\; is often motivated by the need to get away from&nbsp\;</span>someone.&rdquo\;</span></span></span></p>\n\n<p font-size:="" helvetica="" letter-spacing:="" neue="" style="margin: 0px\; padding: 10px 0px 0px\; color: rgb(111\, 114\, 135)\; font-family: "><span style="color:#000000\;"><span style="font-size:11px\;"><span style="font-family:tahoma\;"><span style="padding-top: 0px\;">- John C. Maxwell</span></span></span></span></p>\n\n<p font-size:="" helvetica="" letter-spacing:="" neue="" style="margin: 0px\; padding: 10px 0px 0px\; color: rgb(111\, 114\, 135)\; font-family: "><span style="color:#000000\;"><span style="font-size:11px\;"><span style="font-family:tahoma\;"><span style="padding-top: 0px\;">&ldquo\;</span>The U.S. Bureau of Labor Statistics has found that the U.S. voluntary turnover rate is 23.4% annually. It&#39\;s generally estimated that replacing an employee costs a business one-half to five times that employee&#39\;s annual salary. So\, if 25% of a business&#39\; workforce leaves and the average pay is $35\,000\, it could cost a 100-person firm between $438\,000 and $4 million a year to replace employees.</span></span></span></p>\n\n<p font-size:="" helvetica="" letter-spacing:="" neue="" style="margin: 0px\; padding: 10px 0px 0px\; color: rgb(111\, 114\, 135)\; font-family: "><span style="color:#000000\;"><span style="font-size:11px\;"><span style="font-family:tahoma\;"><span style="padding-top: 0px\;">- Gallup.com</span></span></span></span></p>\n\n<p font-size:="" helvetica="" letter-spacing:="" neue="" style="margin: 0px\; padding: 10px 0px 0px\; color: rgb(111\, 114\, 135)\; font-family: "><span style="color:#000000\;"><span style="font-size:14px\;"><span style="font-family:tahoma\;"><span style="padding-top: 0px\;">Join us for this critical session discussing the impact that effective leadership at each level can have on that organization&#39\;s recruitment and retention. And while that&#39\;s a huge need for most companies in today&#39\;s environment of low unemployment\, this session will also cover key steps that impact productivity and profitability.</span></span></span><span style="padding-top: 0px\;">&nbsp\;</span>To register:&nbsp\;</span><a href="https://www.eventbrite.com/e/leadership-smarts-a-leaders-impact-on-recruitment-retention-tickets-55528735944">https://www.eventbrite.com/e/leadership-smarts-a-leaders-impact-on-recruitment-retention-tickets-55528735944</a></p>\n\n<p font-size:="" helvetica="" letter-spacing:="" neue="" style="margin: 0px\; padding: 0px\; color: rgb(111\, 114\, 135)\; font-family: "><br />\n<span style="font-size:11px\;"><span style="font-family:tahoma\;"><span style="color:#000000\;"><span style="font-weight: 700\; padding-top: 0px\;">LUNCH:</span><br />\nA boxed lunch option will be provided as part of registration. Please let us know of any special dietary needs by emailing Cindy Dove at&nbsp\;</span><a href="mailto:cindy@dove-development.net?subject=Special%20Dietary%20Need%20-%20Leadership%20Smarts"><span style="color:#000000\;">cindy@dove-development.net</span></a></span></span></p>\n<br />\n<br />\n<br />\n<span style="color:#000000\;"><span style="font-size:11px\;"><span style="font-family:tahoma\;"><strong><u>About the presenters:</u></strong><br />\n<span style="background-color: rgb(255\, 255\, 255)\;"><em><strong>Wes Dove</strong></em> is the founder of Dove Development &amp\; Consulting\, a company committed to providing premium leadership and </span></span></span></span><span background-color:="" helvetica=""><span style="font-size:11px\;"><span style="font-family:verdana\;"><span style="font-family:tahoma\;"><span style="color:#000000\;">personnel</span></span></span><span style="color:#000000\;"><span style="font-family:tahoma\;"> development resources\, as well as strategic business development support\, to organizations and individuals who want to reach that next level. Wes is an </span></span><span style="font-family:verdana\;"><span style="font-family:tahoma\;"><span style="color:#000000\;">independent</span></span></span></span></span><span style="color:#000000\;"><span style="font-size:11px\;"><span style="font-family:tahoma\;"><span style="background-color: rgb(255\, 255\, 255)\;"> certified coach\, trainer\, and speaker with The John Maxwell Team and a Certified Human Behavior Consultant using The DISC Model of Human Behavior through Personality Insights.&nbsp\;Wes served on the 2016 and 2017 John C. Maxwell Transformational Leadership Award Selection Committees as well as the 2017 LIVE2LEAD Simulcast Advisory Committee\, providing mentorship and guidance to more than 300 simulcast hosts around the world.</span><br />\n<br />\n<em><strong>Cindy Dove&nbsp\;</strong></em>Having a background of 23 years in the healthcare field with responsibility for operations\, sales and a focus on senior living\, applying a foundation of John Maxwell&rsquo\;s leadership principles\, Cindy created high levels of success for the teams and companies she served.&nbsp\; In 2016\, she joined Dove Development &amp\; Consulting as an </span></span></span><span font-size:="" helvetica=""><span style="font-size:11px\;"><span style="font-family:verdana\;"><span style="font-family:tahoma\;"><span style="color:#000000\;">independent</span></span></span></span></span><span style="color:#000000\;"><span style="font-size:11px\;"><span style="font-family:tahoma\;"> certified coach\, trainer\, and speaker with The John Maxwell Team.&nbsp\;She is also a Certified Human Behavior Consultant using The DISC Model of Human Behavior through Personality Insights and was recently named an Executive Director with The John Maxwell Team\, licensing her to deliver the same leadership development content that corporations such as Microsoft\, Delta Airlines\, Chick-fil-A\, and Hendrick Motorsports had previously only had access to through a select few consultants with The John Maxwell Company.&nbsp\;</span></span></span>
LOCATION:Harrisonburg-Rockingham Chamber of Commerce 800 Country Club Road Harrisonburg\, VA 22801
UID:e.2338.6148
SEQUENCE:3
DTSTAMP:20260420T014947Z
URL:https://chamber.hrchamber.org/events/details/leadership-smarts-a-leader-s-impact-on-recruitment-retention-6148
END:VEVENT

END:VCALENDAR
