BEGIN:VCALENDAR
VERSION:2.0
PRODID:-//ChamberMaster//Event Calendar 2.0//EN
METHOD:PUBLISH
X-PUBLISHED-TTL:P3D
REFRESH-INTERVAL:P3D
CALSCALE:GREGORIAN
BEGIN:VEVENT
DTSTART:20181203T170000Z
DTEND:20181203T183000Z
X-MICROSOFT-CDO-ALLDAYEVENT:FALSE
SUMMARY:Leadership Smarts
DESCRIPTION:For this 4th quarter Leadership Smarts session\, we'd like to offer you a special holiday treat: an exclusive\, in-person look at one of the lessons in our new Emerging Leader Development course! This lesson is designed to provide participants with one of the most crucial steps they will need to learn to apply in order to continue leading effectively as they progress throughout their career.\n\nAttendees will leave this session with a challenge to implement at least one thing they've learned immediately and to work toward incorporating three additional things into their current role in the weeks that follow\, just as every Emerging Leader Development participant is at the close of each session.\n\nWhether you've ever had to transition from a highly technical role into a position where you were responsible for a team of people\, or you have people in your organization who are faced with this challenge\, this session will give you tools that can be applied immediately as well as a look at how the entire course can help bridge the gaps so many of us face when it comes to leading a team!\n\nLUNCH:\n\nA boxed lunch will be provided as part of registration. Please let us know of any special dietary needs by emailing Cindy Dove at cindy@dove-development.net\n\n Click here to register\n\n\nAbout the presenters:\n\nWes Dove is the founder of Dove Development & Consulting\, a company committed to providing premium leadership and personnel development resources\, as well as strategic business development support\, to organizations and individuals who want to reach that next level. Wes is an independent certified coach\, trainer\, and speaker with The John Maxwell Team and a Certified Human Behavior Consultant using The DISC Model of Human Behavior through Personality Insights. Wes served on the 2016 and 2017 John C. Maxwell Transformational Leadership Award Selection Committees as well as the 2017 LIVE2LEAD Simulcast Advisory Committee\, providing mentorship and guidance to more than 300 simulcast hosts around the world.\n\n\n\nCindy Dove Having a background of 23 years in the healthcare field with responsibility for operations\, sales and a focus on senior living\, applying a foundation of John Maxwell's leadership principles\, Cindy created high levels of success for the teams and companies she served.  In 2016\, she joined Dove Development & Consulting as an independent certified coach\, trainer\, and speaker with The John Maxwell Team. She is also a Certified Human Behavior Consultant using The DISC Model of Human Behavior through Personality Insights and was recently named an Executive Director with The John Maxwell Team\, licensing her to deliver the same leadership development content that corporations such as Microsoft\, Delta Airlines\, Chick-fil-A\, and Hendrick Motorsports had previously only had access to through a select few consultants with The John Maxwell Company.
X-ALT-DESC;FMTTYPE=text/html:<p font-size:="" helvetica="" letter-spacing:="" neue="" style="margin: 0px\; padding: 0px\; color: rgb(111\, 114\, 135)\; font-family: "><span style="font-size:11px\;"><span style="font-family:tahoma\;">For this 4th quarter&nbsp\;<span style="font-weight: 700\; padding-top: 0px\;"><em style="padding-top: 0px\;">Leadership</em></span><em>&nbsp\;</em><em><span style="font-weight: 700\; padding-top: 0px\;">Smarts</span>&nbsp\;</em>session\,&nbsp\;we&#39\;d like to offer you a special holiday treat: an exclusive\, in-person look at one of the lessons in our new&nbsp\;<span style="font-weight: 700\;"><em style="padding-top: 0px\;">Emerging Leader Development</em>&nbsp\;</span>course! This lesson is designed to provide participants with one of the most crucial steps they will need to learn to apply in order to continue leading effectively as they progress throughout their career.</span></span></p>\n\n<p font-size:="" helvetica="" letter-spacing:="" neue="" style="margin: 0px\; padding: 10px 0px 0px\; color: rgb(111\, 114\, 135)\; font-family: "><span style="font-size:11px\;"><span style="font-family:tahoma\;">Attendees will leave this session with a challenge to implement at least one thing they&#39\;ve learned immediately and to work toward incorporating three additional things into their current role in the weeks that follow\, just as every&nbsp\;<span style="font-weight: 700\; padding-top: 0px\;"><em style="padding-top: 0px\;">Emerging Leader</em></span><em>&nbsp\;<span style="font-weight: 700\; padding-top: 0px\;">Development</span></em><span style="font-weight: 700\;">&nbsp\;</span>participant is at the close of each session.</span></span></p>\n\n<p font-size:="" helvetica="" letter-spacing:="" neue="" style="margin: 0px\; padding: 10px 0px 0px\; color: rgb(111\, 114\, 135)\; font-family: "><span style="font-size:11px\;"><span style="font-family:tahoma\;">Whether you&#39\;ve ever had to transition from a highly technical role into a position where you were responsible for a team of people\, or you have people in your organization who are faced with this challenge\, this session will give you tools that can be applied immediately as well as a look at how the entire course can help bridge the gaps so many of us face when it comes to leading a team!</span></span></p>\n\n<p font-size:="" helvetica="" letter-spacing:="" neue="" style="margin: 0px\; padding: 10px 0px 0px\; color: rgb(111\, 114\, 135)\; font-family: "><span style="font-size:11px\;"><span style="font-family:tahoma\;"><span style="font-weight: 700\; padding-top: 0px\;">LUNCH:</span></span></span></p>\n\n<p font-size:="" helvetica="" letter-spacing:="" neue="" style="margin: 0px\; padding: 10px 0px 0px\; color: rgb(111\, 114\, 135)\; font-family: "><span style="font-size:11px\;"><span style="font-family:tahoma\;">A boxed lunch will be provided as part of registration. Please let us know of any special dietary needs by emailing Cindy Dove at cindy@dove-development.net</span></span></p>\n\n<div style="text-align: center\;"><u><span style="font-size:18px\;"><strong><span style="font-family:tahoma\;">&nbsp\;</span><a href="https://www.eventbrite.com/e/learn-to-compound-accelerate-leadership-and-professional-growth-by-tickets-51984977467" style="font-family: tahoma\;">Click here to register</a></strong></span></u></div>\n<br />\n<span style="font-size:11px\;"><span style="font-family:tahoma\;"><strong><u>About the presenters:</u></strong><br />\n<span style="color: rgb(68\, 68\, 68)\; background-color: rgb(255\, 255\, 255)\;"><em><strong>Wes Dove</strong></em> is the founder of Dove Development &amp\; Consulting\, a company committed to providing premium leadership and </span></span></span><span background-color:="" helvetica="" style="color: rgb(68\, 68\, 68)\; font-family: "><span style="font-size:11px\;"><span style="font-family:verdana\;"><span style="font-family:tahoma\;">personnel</span></span><span style="font-family:tahoma\;"> development resources\, as well as strategic business development support\, to organizations and individuals who want to reach that next level. Wes is an </span><span style="font-family:verdana\;"><span style="font-family:tahoma\;">independent</span></span></span></span><span style="font-size:11px\;"><span style="font-family:tahoma\;"><span style="color: rgb(68\, 68\, 68)\; background-color: rgb(255\, 255\, 255)\;"> certified coach\, trainer\, and speaker with The John Maxwell Team and a Certified Human Behavior Consultant using The DISC Model of Human Behavior through Personality Insights.&nbsp\;Wes served on the 2016 and 2017 John C. Maxwell Transformational Leadership Award Selection Committees as well as the 2017 LIVE2LEAD Simulcast Advisory Committee\, providing mentorship and guidance to more than 300 simulcast hosts around the world.</span><br />\n<br />\n<em><strong>Cindy Dove&nbsp\;</strong></em><span style="color: rgb(68\, 68\, 68)\;">Having a background of 23 years in the healthcare field with responsibility for operations\, sales and a focus on senior living\, applying a foundation of John Maxwell&rsquo\;s leadership principles\, Cindy created high levels of success for the teams and companies she served.&nbsp\; In 2016\, she joined Dove Development &amp\; Consulting as an </span></span></span><span font-size:="" helvetica="" style="color: rgb(68\, 68\, 68)\; font-family: "><span style="font-size:11px\;"><span style="font-family:verdana\;"><span style="font-family:tahoma\;">independent</span></span></span></span><span style="font-size:11px\;"><span style="font-family:tahoma\;"><span style="color: rgb(68\, 68\, 68)\;"> certified coach\, trainer\, and speaker with The John Maxwell Team.&nbsp\;She is also a Certified Human Behavior Consultant using The DISC Model of Human Behavior through Personality Insights and was recently named an Executive Director with The John Maxwell Team\, licensing her to deliver the same leadership development content that corporations such as Microsoft\, Delta Airlines\, Chick-fil-A\, and Hendrick Motorsports had previously only had access to through a select few consultants with The John Maxwell Company.&nbsp\;</span></span></span>
LOCATION:Harrisonburg-Rockingham Chamber of Commerce 800 Country Club Road Harrisonburg\, VA 22801
UID:e.2338.3632
SEQUENCE:3
DTSTAMP:20260420T060628Z
URL:https://chamber.hrchamber.org/events/details/leadership-smarts-3632
END:VEVENT

END:VCALENDAR
