BEGIN:VCALENDAR
VERSION:2.0
PRODID:-//ChamberMaster//Event Calendar 2.0//EN
METHOD:PUBLISH
X-PUBLISHED-TTL:P3D
REFRESH-INTERVAL:P3D
CALSCALE:GREGORIAN
BEGIN:VEVENT
DTSTART;VALUE=DATE:20180419
DTEND;VALUE=DATE:20180420
TRANSP:TRANSPARENT
X-MICROSOFT-CDO-ALLDAYEVENT:TRUE
SUMMARY:Leadership Harrisonburg-Rockingham Class
DESCRIPTION:Development and Sustainability Session\n\n\n\nLeadership Harrisonburg-Rockingham applications for 2018-19 will be available soon.
X-ALT-DESC;FMTTYPE=text/html:<span style="font-size:14px\;"><strong>Development and Sustainability Session</strong></span><br />\n<br />\n<span style="color: rgb(0\, 0\, 0)\; font-family: arial\, sans-serif\; font-size: 14px\;">Leadership Harrisonburg-Rockingham applications for 2018-19 will be available soon.&nbsp\;</span>
LOCATION:
UID:e.2338.3739
SEQUENCE:3
DTSTAMP:20260420T113802Z
URL:https://chamber.hrchamber.org/events/details/leadership-harrisonburg-rockingham-class-3739
END:VEVENT

END:VCALENDAR
