BEGIN:VCALENDAR
VERSION:2.0
PRODID:-//ChamberMaster//Event Calendar 2.0//EN
METHOD:PUBLISH
X-PUBLISHED-TTL:P3D
REFRESH-INTERVAL:P3D
CALSCALE:GREGORIAN
BEGIN:VEVENT
DTSTART;VALUE=DATE:20180315
DTEND;VALUE=DATE:20180316
TRANSP:TRANSPARENT
X-MICROSOFT-CDO-ALLDAYEVENT:TRUE
SUMMARY:Leadership Harrisonburg-Rockingham Class
DESCRIPTION:Education Session at Thomas Harrisonburg Middle School and American National University. \n\n\n\nLeadership Harrisonburg-Rockingham applications for 2018-19 will be available soon.
X-ALT-DESC;FMTTYPE=text/html:<strong><span style="color:black\;"><span style="font-family:arial\,sans-serif\;"><span style="font-size:10.5pt\;">Education Session at Thomas Harrisonburg Middle School and American National University. </span></span></span></strong><br />\n<br />\n<span style="color:black\;"><span style="font-family:arial\,sans-serif\;"><span style="font-size:10.5pt\;">Leadership Harrisonburg-Rockingham applications for 2018-19 will be available soon.&nbsp\;</span></span></span>
LOCATION:
UID:e.2338.3736
SEQUENCE:3
DTSTAMP:20260420T100705Z
URL:https://chamber.hrchamber.org/events/details/leadership-harrisonburg-rockingham-class-3736
END:VEVENT

END:VCALENDAR
