BEGIN:VCALENDAR
VERSION:2.0
PRODID:-//ChamberMaster//Event Calendar 2.0//EN
METHOD:PUBLISH
X-PUBLISHED-TTL:P3D
REFRESH-INTERVAL:P3D
CALSCALE:GREGORIAN
BEGIN:VEVENT
DTSTART:20190131T133000Z
DTEND:20190131T210000Z
X-MICROSOFT-CDO-ALLDAYEVENT:FALSE
SUMMARY:Leadership Harrisonburg-Rockingham Class 18-19
DESCRIPTION:Session #4   Workplace Communication (Rescheduled Date)
X-ALT-DESC;FMTTYPE=text/html:Session #4 &bull\; Workplace Communication (Rescheduled Date)
LOCATION:Shenandoah Valley Electric Cooperative Meeting Room 180 Oakwood Dr Rockingham\, VA 22801 (DOES NOT WORK WITH GPS) ***From Harrisonburg\, taking Interstate 81 South: Take Exit 243 and turn left to go south on U.S. 11 at the light. Travel a little more than two miles and turn right onto Oakwood Drive. The Rockingham Complex is on your right. Visitors should turn into the first entrance\, where the SVEC sign sits\, and there's about 12-15 visitor spots available. Otherwise\, additional visitor parking\, if needed\, is at the bottom of the employee lot\, which is accessed from the second entrance off Oakwood.
UID:e.2338.6155
SEQUENCE:3
DTSTAMP:20260420T044603Z
URL:https://chamber.hrchamber.org/events/details/leadership-harrisonburg-rockingham-class-18-19-6155
END:VEVENT

END:VCALENDAR
