BEGIN:VCALENDAR
VERSION:2.0
PRODID:-//ChamberMaster//Event Calendar 2.0//EN
METHOD:PUBLISH
X-PUBLISHED-TTL:P3D
REFRESH-INTERVAL:P3D
CALSCALE:GREGORIAN
BEGIN:VEVENT
DTSTART:20190516T123000Z
DTEND:20190516T200000Z
X-MICROSOFT-CDO-ALLDAYEVENT:FALSE
SUMMARY:Leadership Harrisonburg-Rockingham Class 18-19
DESCRIPTION:Session #10   Arts & Entertainment
X-ALT-DESC;FMTTYPE=text/html:Session #10 &bull\; Arts &amp\; Entertainment
LOCATION:
UID:e.2338.5937
SEQUENCE:3
DTSTAMP:20260419T224807Z
URL:https://chamber.hrchamber.org/events/details/leadership-harrisonburg-rockingham-class-18-19-5937
END:VEVENT

END:VCALENDAR
