BEGIN:VCALENDAR
VERSION:2.0
PRODID:-//ChamberMaster//Event Calendar 2.0//EN
METHOD:PUBLISH
X-PUBLISHED-TTL:P3D
REFRESH-INTERVAL:P3D
CALSCALE:GREGORIAN
BEGIN:VEVENT
DTSTART:20190321T123000Z
DTEND:20190321T200000Z
X-MICROSOFT-CDO-ALLDAYEVENT:FALSE
SUMMARY:Leadership Harrisonburg-Rockingham Class 18-19
DESCRIPTION:Session #8   Education / Life-Long Learning
X-ALT-DESC;FMTTYPE=text/html:Session #8 &bull\; Education / Life-Long Learning&nbsp\;
LOCATION:
UID:e.2338.5935
SEQUENCE:3
DTSTAMP:20260420T014538Z
URL:https://chamber.hrchamber.org/events/details/leadership-harrisonburg-rockingham-class-18-19-5935
END:VEVENT

END:VCALENDAR
