BEGIN:VCALENDAR
VERSION:2.0
PRODID:-//ChamberMaster//Event Calendar 2.0//EN
METHOD:PUBLISH
X-PUBLISHED-TTL:P3D
REFRESH-INTERVAL:P3D
CALSCALE:GREGORIAN
BEGIN:VEVENT
DTSTART:20190221T133000Z
DTEND:20190221T210000Z
X-MICROSOFT-CDO-ALLDAYEVENT:FALSE
SUMMARY:Leadership Harrisonburg-Rockingham Class 18-19
DESCRIPTION:Session #7   Public Safety
X-ALT-DESC;FMTTYPE=text/html:Session #7 &bull\; Public Safety
LOCATION:
UID:e.2338.5934
SEQUENCE:3
DTSTAMP:20260420T032145Z
URL:https://chamber.hrchamber.org/events/details/leadership-harrisonburg-rockingham-class-18-19-5934
END:VEVENT

END:VCALENDAR
