BEGIN:VCALENDAR
VERSION:2.0
PRODID:-//ChamberMaster//Event Calendar 2.0//EN
METHOD:PUBLISH
X-PUBLISHED-TTL:P3D
REFRESH-INTERVAL:P3D
CALSCALE:GREGORIAN
BEGIN:VEVENT
DTSTART:20181220T133000Z
DTEND:20181220T210000Z
X-MICROSOFT-CDO-ALLDAYEVENT:FALSE
SUMMARY:Leadership Harrisonburg-Rockingham Class 18-19
DESCRIPTION:Session #5   Local History & Government
X-ALT-DESC;FMTTYPE=text/html:Session #5 &bull\; Local History &amp\; Government
LOCATION:New City Building 409 South Main Street Harrisonburg\, VA (Take Elevator down to lower level - follow signage to meeting room) Parking: At the City Hall or behind the Farmers Market Area.
UID:e.2338.5932
SEQUENCE:3
DTSTAMP:20260420T060827Z
URL:https://chamber.hrchamber.org/events/details/leadership-harrisonburg-rockingham-class-18-19-5932
END:VEVENT

END:VCALENDAR
