BEGIN:VCALENDAR
VERSION:2.0
PRODID:-//ChamberMaster//Event Calendar 2.0//EN
METHOD:PUBLISH
X-PUBLISHED-TTL:P3D
REFRESH-INTERVAL:P3D
CALSCALE:GREGORIAN
BEGIN:VEVENT
DTSTART:20181018T123000Z
DTEND:20181018T200000Z
X-MICROSOFT-CDO-ALLDAYEVENT:FALSE
SUMMARY:Leadership Harrisonburg-Rockingham Class 18-19
DESCRIPTION:Session #3   Local Non-Profits\n\n\n\nPARKING:\n\nParking available in Water Street parking deck or Turner Pavilion - 10 hour spots\n\nLimited Parking available on Mason\, Water and Newman - 2 hour spots
X-ALT-DESC;FMTTYPE=text/html:<br />\n<span style="font-size:14px\;"><strong>Session #3 &bull\; Local Non-Profits</strong></span><br />\n<br />\n<em><u>PARKING:</u></em><br />\nParking available in Water Street parking deck or Turner Pavilion - 10 hour spots<br />\nLimited Parking available on Mason\, Water and Newman - 2 hour spots
LOCATION:United Way of Harrisonburg/Rockingham County (Downstairs Basement) 100 South Mason Street\, St A Harrisonburg\, VA 22801
UID:e.2338.5930
SEQUENCE:3
DTSTAMP:20260420T091136Z
URL:https://chamber.hrchamber.org/events/details/leadership-harrisonburg-rockingham-class-18-19-5930
END:VEVENT

END:VCALENDAR
