BEGIN:VCALENDAR
VERSION:2.0
PRODID:-//ChamberMaster//Event Calendar 2.0//EN
METHOD:PUBLISH
X-PUBLISHED-TTL:P3D
REFRESH-INTERVAL:P3D
CALSCALE:GREGORIAN
BEGIN:VEVENT
DTSTART:20180920T123000Z
DTEND:20180920T200000Z
X-MICROSOFT-CDO-ALLDAYEVENT:FALSE
SUMMARY:Leadership Harrisonburg-Rockingham Class 18-19
DESCRIPTION:Session #2   Horizons Team Building
X-ALT-DESC;FMTTYPE=text/html:Session #2 &bull\; Horizons Team Building&nbsp\;
LOCATION:Horizons Outdoor Learning and Retreat Center at Valley Pike 297 Cornerstone Lane Harrisonburg\, VA 22802
UID:e.2338.5929
SEQUENCE:3
DTSTAMP:20260420T104454Z
URL:https://chamber.hrchamber.org/events/details/leadership-harrisonburg-rockingham-class-18-19-09-20-2018-5929
END:VEVENT

END:VCALENDAR
