BEGIN:VCALENDAR
VERSION:2.0
PRODID:-//ChamberMaster//Event Calendar 2.0//EN
METHOD:PUBLISH
X-PUBLISHED-TTL:P3D
REFRESH-INTERVAL:P3D
CALSCALE:GREGORIAN
BEGIN:VEVENT
DTSTART:20180621T150000Z
DTEND:20180621T170000Z
X-MICROSOFT-CDO-ALLDAYEVENT:FALSE
SUMMARY:Leadership Harrisonburg-Rockingham 17-18 Class Graduation
DESCRIPTION:2017-2018 Class Graduation
X-ALT-DESC;FMTTYPE=text/html:<strong><span style="font-size:14px\;">2017-2018 Class Graduation</span></strong>
LOCATION:
UID:e.2338.3741
SEQUENCE:3
DTSTAMP:20260420T145209Z
URL:https://chamber.hrchamber.org/events/details/leadership-harrisonburg-rockingham-17-18-class-graduation-3741
END:VEVENT

END:VCALENDAR
