BEGIN:VCALENDAR
VERSION:2.0
PRODID:-//ChamberMaster//Event Calendar 2.0//EN
METHOD:PUBLISH
X-PUBLISHED-TTL:P3D
REFRESH-INTERVAL:P3D
CALSCALE:GREGORIAN
BEGIN:VEVENT
DTSTART:20200125T150000Z
DTEND:20200125T163000Z
X-MICROSOFT-CDO-ALLDAYEVENT:FALSE
SUMMARY:Launching Your Nonprofit: Steps You Need to Know
DESCRIPTION:Are you thinking about starting a nonprofit organization?\n\nStarting a nonprofit is an exciting opportunity for individuals who want to serve and address needs in their communities.  But where do you begin? And how do you know if it is right for you?\n\n \n\nThrough this workshop\, you will learn:\n\n\n	\n	how to prepare for the process\n	\n	\n	steps to incorporate in Virginia\n	\n	\n	tools and resources for startup nonprofits\n	\n	\n	alternatives to launching\n	\n\n\nFacilitator Maria Paz G. Esguerra is the co-principal and lead consultant for Kensington Strickland Group\, LLC. She has worked in the non-profit sector and in higher education for over a decade. Her interests include evaluation\, program assessment\, volunteer management\, and organizational development. Maria Paz holds a Ph.D. from the University of Michigan.\n\n\n\nReserve Your Seat Here
X-ALT-DESC;FMTTYPE=text/html:<div><br />\n<span style="font-size:14px"><span style="font-family:arial\,helvetica\,sans-serif"><strong>Are you thinking about starting a nonprofit organization?<br />\nStarting a nonprofit is an exciting opportunity for individuals who want to serve and address needs in their communities.&nbsp\; But where do you begin? And how do you know if it is right for you?</strong></span></span><br />\n&nbsp\;</div>\n\n<div><span style="font-size:14px"><span style="font-family:arial\,helvetica\,sans-serif">Through this workshop\, you will learn:</span></span></div>\n\n<ul>\n	<li>\n	<div><span style="font-size:14px"><span style="font-family:arial\,helvetica\,sans-serif">how to prepare for the process</span></span></div>\n	</li>\n	<li>\n	<div><span style="font-size:14px"><span style="font-family:arial\,helvetica\,sans-serif">steps to incorporate in Virginia</span></span></div>\n	</li>\n	<li>\n	<div><span style="font-size:14px"><span style="font-family:arial\,helvetica\,sans-serif">tools and resources for startup nonprofits</span></span></div>\n	</li>\n	<li>\n	<div><span style="font-size:14px"><span style="font-family:arial\,helvetica\,sans-serif">alternatives to launching</span></span></div>\n	</li>\n</ul>\n\n<div><span style="font-size:14px"><span style="font-family:arial\,helvetica\,sans-serif"><strong>Facilitator Maria Paz G. Esguerra</strong> is the co-principal and lead consultant for <a href="http://www.kensingtonstrickland.com/" rel="noopener noreferrer" target="_blank">Kensington Strickland Group\, LLC</a>. She has worked in the non-profit sector and in higher education for over a decade. Her interests include evaluation\, program assessment\, volunteer management\, and organizational development. Maria Paz holds a Ph.D. from the University of Michigan.</span></span></div>\n\n<div><br />\n<span style="font-size:14px"><span style="font-family:arial\,helvetica\,sans-serif"><strong><a href="https://launch-your-nonprofit.eventbrite.com" rel="noopener noreferrer" target="_blank">Reserve Your Seat Here</a></strong></span></span></div>\n
LOCATION:Room 117 JMU Ice House 127 W Bruce Street Harrisonburg VA
UID:e.2338.8520
SEQUENCE:3
DTSTAMP:20260419T121951Z
URL:https://chamber.hrchamber.org/events/details/launching-your-nonprofit-steps-you-need-to-know-8520
END:VEVENT

END:VCALENDAR
