BEGIN:VCALENDAR
VERSION:2.0
PRODID:-//ChamberMaster//Event Calendar 2.0//EN
METHOD:PUBLISH
X-PUBLISHED-TTL:P3D
REFRESH-INTERVAL:P3D
CALSCALE:GREGORIAN
BEGIN:VEVENT
DTSTART:20170519T130000Z
DTEND:20170520T000000Z
X-MICROSOFT-CDO-ALLDAYEVENT:FALSE
SUMMARY:Large Estate Sale at Green Valley Auctions
DESCRIPTION:Auctions at Green Valley are vibrant and fun! Come on out to our large estate sale this Friday and discover a new source of entertainment. You'll meet new friends\, see some intriguing items and the food is fabulous - All homemade from scratch!\n\n\n\nThis week's auction is featuring the Sensabaugh and Wenger estates from Staunton\, Virginia\; plus others.  Nice quality used furniture including Sumter\, Lazy-Boy\, Broyhill\, etc. 200 pieces of Noritake Azalea\; 500 pieces of EAPG\; Quality kitchen ware\; 2002 Buick\; Old Town canoe\; plus more.
X-ALT-DESC;FMTTYPE=text/html:<span style="color:black"><span style="font-size:10.5pt">Auctions at Green Valley are vibrant and fun! Come on out to our large estate sale this Friday and discover a new source of entertainment. You&rsquo\;ll meet new friends\, see some intriguing items and the food is fabulous - All homemade from scratch!<br />\n<br />\nThis week&#39\;s auction is f</span></span>eaturing the Sensabaugh and&nbsp\;Wenger estates from Staunton\, Virginia\; plus others.&nbsp\; Nice quality used furniture including Sumter\, Lazy-Boy\, Broyhill\, etc. 200&nbsp\;pieces of Noritake Azalea\; 500&nbsp\;pieces of EAPG\; Quality kitchen ware\; 2002 Buick\; Old Town canoe\; plus more.<br />\n<br />\n<br />\n&nbsp\;
LOCATION:Green Valley Auctions 2259 Green Valley Lane Mt. Crawford\, VA 22841
UID:e.2338.2707
SEQUENCE:3
DTSTAMP:20260419T192043Z
URL:https://chamber.hrchamber.org/events/details/large-estate-sale-at-green-valley-auctions-2707
END:VEVENT

END:VCALENDAR
