BEGIN:VCALENDAR
VERSION:2.0
PRODID:-//ChamberMaster//Event Calendar 2.0//EN
METHOD:PUBLISH
X-PUBLISHED-TTL:P3D
REFRESH-INTERVAL:P3D
CALSCALE:GREGORIAN
BEGIN:VEVENT
DTSTART:20171201T140000Z
DTEND:20171202T010000Z
X-MICROSOFT-CDO-ALLDAYEVENT:FALSE
SUMMARY:Large Estate Sale at Green Valley Auctions
DESCRIPTION:Large Estate Sale at Green Valley Auctions\n\n\nLarge antique and fine furnishings auction featuring Suters\, Lexington\, and Kincaid furniture in addition to antique oak and country furniture\; Smalls including 85 tumble-ups\, collection of perfume bottles\, collection of 30\,000 Lion Club pins\, P. Buckley Moss prints\, Longaberger baskets\, local Winross trucks\, et cetera\; Like-new garden equipment including a John Deere riding mower\, Husky pressure washer\, Worx Aerocart wheelbarrow\, Stihl gas leaf blower\; and much more. \n\n \nGallery 1\nFine furnishings including Suters\, Lexington\, Kincaid\, Virginia Craftsmen\, Henredon\, Ethan Allen\, etc.\; Oak including a lovely kitchen cabinet\, side-by-side secretary\, princess dresser\, etc.\; Washer\, dryer\, and upright freezer\; Collection of 85 Tumble-ups including Fenton\, Mary Gregory\, etc.\; Collection of perfume bottles\; Elegant and Depression glass\; P. Buckley Moss prints\; Plus more.\n\n \nGallery 2\nThe Wayne Davis estate collection of 30\,000 Lion Club pins\; Longaberger baskets\; Local Winross trucks\; Like-new Dyson upright vacuum cleaner\; Collector dolls including Middleton\, Lady Anne from Williamsburg Doll Factory\, etc.\; Marx Moon Base play set\; Lot Christmas including Radko & Adler ornaments\; Plus more.\n\n \nGallery 3\nCountry furniture including food safe with screen door\, low pine cabinet\, pine dry sink and blanket chest\, etc.\; Patio including wrought iron MeadowCraft\; Farm primitives\; Like-new garden equipment including John Deere riding mower\, Husky pressure washer\, Worx Aerocart wheelbarrow\, Stihl gas leaf blower\, etc.\; Plus more.
X-ALT-DESC;FMTTYPE=text/html:<h1>Large Estate Sale at Green Valley Auctions</h1>\n<br />\nLarge antique and fine furnishings auction featuring Suters\, Lexington\, and Kincaid furniture in addition to antique oak and country furniture\; Smalls including 85 tumble-ups\, collection of perfume bottles\, collection of 30\,000 Lion Club pins\, P. Buckley Moss prints\, Longaberger baskets\, local Winross trucks\, et cetera\; Like-new garden equipment including a John Deere riding mower\, Husky pressure washer\, Worx Aerocart wheelbarrow\, Stihl gas leaf blower\; and much more.&nbsp\;<br />\n&nbsp\;\n<h3><strong>Gallery 1</strong></h3>\nFine furnishings including Suters\, Lexington\, Kincaid\, Virginia Craftsmen\, Henredon\, Ethan Allen\, etc.\; Oak including a lovely kitchen cabinet\, side-by-side secretary\, princess dresser\, etc.\; Washer\, dryer\, and upright freezer\; Collection of 85 Tumble-ups including Fenton\, Mary Gregory\, etc.\; Collection of perfume bottles\; Elegant and Depression glass\; P. Buckley Moss prints\; Plus more.<br />\n&nbsp\;\n<h3><strong>Gallery 2</strong></h3>\nThe Wayne Davis estate collection of 30\,000 Lion Club pins\; Longaberger baskets\; Local Winross trucks\; Like-new Dyson upright vacuum cleaner\; Collector dolls including Middleton\, Lady Anne from Williamsburg Doll Factory\, etc.\; Marx Moon Base play set\; Lot Christmas including Radko &amp\; Adler ornaments\; Plus more.<br />\n&nbsp\;\n<h3><strong>Gallery 3</strong></h3>\nCountry furniture including food safe with screen door\, low pine cabinet\, pine dry sink and blanket chest\, etc.\; Patio including wrought iron MeadowCraft\; Farm primitives\; Like-new garden equipment including John Deere riding mower\, Husky pressure washer\, Worx Aerocart wheelbarrow\, Stihl gas leaf blower\, etc.\; Plus more.&nbsp\;<br />\n<br />\n<br />\n&nbsp\;
LOCATION:Mt. Crawford\, Virginia
UID:e.2338.3340
SEQUENCE:3
DTSTAMP:20260420T055211Z
URL:https://chamber.hrchamber.org/events/details/large-estate-sale-at-green-valley-auctions-12-01-2017-3340
END:VEVENT

END:VCALENDAR
